BEGIN:VCALENDAR
VERSION:2.0
PRODID:-//Emmanuel Baptist Church - ECPv6.15.20//NONSGML v1.0//EN
CALSCALE:GREGORIAN
METHOD:PUBLISH
X-WR-CALNAME:Emmanuel Baptist Church
X-ORIGINAL-URL:https://ebcwindsor.com
X-WR-CALDESC:Events for Emmanuel Baptist Church
REFRESH-INTERVAL;VALUE=DURATION:PT1H
X-Robots-Tag:noindex
X-PUBLISHED-TTL:PT1H
BEGIN:VTIMEZONE
TZID:America/Detroit
BEGIN:DAYLIGHT
TZOFFSETFROM:-0500
TZOFFSETTO:-0400
TZNAME:EDT
DTSTART:20250309T070000
END:DAYLIGHT
BEGIN:STANDARD
TZOFFSETFROM:-0400
TZOFFSETTO:-0500
TZNAME:EST
DTSTART:20251102T060000
END:STANDARD
BEGIN:DAYLIGHT
TZOFFSETFROM:-0500
TZOFFSETTO:-0400
TZNAME:EDT
DTSTART:20260308T070000
END:DAYLIGHT
BEGIN:STANDARD
TZOFFSETFROM:-0400
TZOFFSETTO:-0500
TZNAME:EST
DTSTART:20261101T060000
END:STANDARD
BEGIN:DAYLIGHT
TZOFFSETFROM:-0500
TZOFFSETTO:-0400
TZNAME:EDT
DTSTART:20270314T070000
END:DAYLIGHT
BEGIN:STANDARD
TZOFFSETFROM:-0400
TZOFFSETTO:-0500
TZNAME:EST
DTSTART:20271107T060000
END:STANDARD
END:VTIMEZONE
BEGIN:VEVENT
DTSTART;TZID=America/Detroit:20260502T080000
DTEND;TZID=America/Detroit:20260502T103000
DTSTAMP:20260424T212910
CREATED:20250622T190052Z
LAST-MODIFIED:20250831T102655Z
UID:15272-1777708800-1777717800@ebcwindsor.com
SUMMARY:Men's Breakfast
DESCRIPTION:Starting September 2025 the men of our church will gather once per month for breakfast to encourage one another in the Lord and study through Jerry Bridges’ book Respectable Sins. See Jeff Mitchell for further details. We’ll work through the chapters as follows: \n  \nSeptember 2025 \n1. Ordinary Saints \n2. The Disappearance of Sin \n3\, The Malignancy of Sin \nOctober 2025 \n4. The Remedy for Sin \n5. The Power of the Holy Spirit \n6. Directions for Dealing with Sins \nNovember 2025 \n7. Ungodliness \n10. Unthankfulness \nJanuary 2026 \n8. Anxiety and Frustration \n9. Discontentment \nFebruary 2026 \n11. Pride \n12. Selfishness \nMarch 7\, 2026 \n14. Impatience and Irritablility \n15. Anger \n16. Weeds of Anger \nApril 2026 \n17. Judgmentalism \n19. Sins of the Tongue \nMay 2026 \n13. Lack of Self-Control \n18. Envy\, Jealousy\, and Related Sins \nJune 6\, 2026 \n20. Worldliness \n21. Where do We Go From Here?
URL:https://ebcwindsor.com/event/mbrs/2026-05-02/
LOCATION:Ontario
CATEGORIES:Regular Events
END:VEVENT
END:VCALENDAR