BEGIN:VCALENDAR
VERSION:2.0
PRODID:-//Emmanuel Baptist Church - ECPv6.15.20//NONSGML v1.0//EN
CALSCALE:GREGORIAN
METHOD:PUBLISH
X-ORIGINAL-URL:https://ebcwindsor.com
X-WR-CALDESC:Events for Emmanuel Baptist Church
REFRESH-INTERVAL;VALUE=DURATION:PT1H
X-Robots-Tag:noindex
X-PUBLISHED-TTL:PT1H
BEGIN:VTIMEZONE
TZID:America/Detroit
BEGIN:DAYLIGHT
TZOFFSETFROM:-0500
TZOFFSETTO:-0400
TZNAME:EDT
DTSTART:20250309T070000
END:DAYLIGHT
BEGIN:STANDARD
TZOFFSETFROM:-0400
TZOFFSETTO:-0500
TZNAME:EST
DTSTART:20251102T060000
END:STANDARD
BEGIN:DAYLIGHT
TZOFFSETFROM:-0500
TZOFFSETTO:-0400
TZNAME:EDT
DTSTART:20260308T070000
END:DAYLIGHT
BEGIN:STANDARD
TZOFFSETFROM:-0400
TZOFFSETTO:-0500
TZNAME:EST
DTSTART:20261101T060000
END:STANDARD
BEGIN:DAYLIGHT
TZOFFSETFROM:-0500
TZOFFSETTO:-0400
TZNAME:EDT
DTSTART:20270314T070000
END:DAYLIGHT
BEGIN:STANDARD
TZOFFSETFROM:-0400
TZOFFSETTO:-0500
TZNAME:EST
DTSTART:20271107T060000
END:STANDARD
END:VTIMEZONE
BEGIN:VEVENT
DTSTART;TZID=America/Detroit:20260919T090000
DTEND;TZID=America/Detroit:20260919T103000
DTSTAMP:20260425T065334
CREATED:20241102T103634Z
LAST-MODIFIED:20241102T103634Z
UID:15860-1789808400-1789813800@ebcwindsor.com
SUMMARY:Women's Book Study
DESCRIPTION:The women of our church are invited to this monthly book study. Come and discuss the chapter at hand and grow further into Christ’s image as the truths of Scripture are understood and applied. See Holly for further details.
URL:https://ebcwindsor.com/event/womens-book-study-2/2026-09-19/
LOCATION:Ontario
END:VEVENT
END:VCALENDAR