BEGIN:VCALENDAR
VERSION:2.0
PRODID:-//Emmanuel Baptist Church - ECPv6.15.20//NONSGML v1.0//EN
CALSCALE:GREGORIAN
METHOD:PUBLISH
X-WR-CALNAME:Emmanuel Baptist Church
X-ORIGINAL-URL:https://ebcwindsor.com
X-WR-CALDESC:Events for Emmanuel Baptist Church
REFRESH-INTERVAL;VALUE=DURATION:PT1H
X-Robots-Tag:noindex
X-PUBLISHED-TTL:PT1H
BEGIN:VTIMEZONE
TZID:America/Detroit
BEGIN:DAYLIGHT
TZOFFSETFROM:-0500
TZOFFSETTO:-0400
TZNAME:EDT
DTSTART:20250309T070000
END:DAYLIGHT
BEGIN:STANDARD
TZOFFSETFROM:-0400
TZOFFSETTO:-0500
TZNAME:EST
DTSTART:20251102T060000
END:STANDARD
BEGIN:DAYLIGHT
TZOFFSETFROM:-0500
TZOFFSETTO:-0400
TZNAME:EDT
DTSTART:20260308T070000
END:DAYLIGHT
BEGIN:STANDARD
TZOFFSETFROM:-0400
TZOFFSETTO:-0500
TZNAME:EST
DTSTART:20261101T060000
END:STANDARD
BEGIN:DAYLIGHT
TZOFFSETFROM:-0500
TZOFFSETTO:-0400
TZNAME:EDT
DTSTART:20270314T070000
END:DAYLIGHT
BEGIN:STANDARD
TZOFFSETFROM:-0400
TZOFFSETTO:-0500
TZNAME:EST
DTSTART:20271107T060000
END:STANDARD
END:VTIMEZONE
BEGIN:VEVENT
DTSTART;TZID=America/Detroit:20261206T093000
DTEND;TZID=America/Detroit:20261206T110000
DTSTAMP:20260425T115528
CREATED:20221006T200222Z
LAST-MODIFIED:20221006T200222Z
UID:14711-1796549400-1796554800@ebcwindsor.com
SUMMARY:Morning Worship Service
DESCRIPTION:We enjoy the Lord’s Table (Communion) together on every first Sunday of the month. Junior Church ministry is offered to children aged 3 through 7. Nursery ministry is available for children aged 0 through 2. See “How We Worship” for more details regarding what our worship services look like.
URL:https://ebcwindsor.com/event/morning-worship-service/2026-12-06/
LOCATION:Emmanuel Baptist Church\, 5445 Walker Road\, Oldcastle\, Ontario\, N0R1L0\, Canada
CATEGORIES:Regular Events
END:VEVENT
BEGIN:VEVENT
DTSTART;TZID=America/Detroit:20261206T110000
DTEND;TZID=America/Detroit:20261206T114500
DTSTAMP:20260425T115528
CREATED:20240302T010326Z
LAST-MODIFIED:20240302T010326Z
UID:14712-1796554800-1796557500@ebcwindsor.com
SUMMARY:Sunday School for All Ages
DESCRIPTION:We offer Sunday School ministry for all ages.
URL:https://ebcwindsor.com/event/sunday-school-for-all-ages-3/2026-12-06/
LOCATION:Emmanuel Baptist Church\, 5445 Walker Road\, Oldcastle\, Ontario\, N0R1L0\, Canada
CATEGORIES:Regular Events
END:VEVENT
BEGIN:VEVENT
DTSTART;TZID=America/Detroit:20261206T120000
DTEND;TZID=America/Detroit:20261206T130000
DTSTAMP:20260425T115528
CREATED:20240217T121637Z
LAST-MODIFIED:20240217T121637Z
UID:15522-1796558400-1796562000@ebcwindsor.com
SUMMARY:Lunch Fellowship
DESCRIPTION:Bring-Your-Own-Lunch Fellowship \nWe’d love to get to know you between our Sunday School class and afternoon worship service on the first and third Sunday of each month.
URL:https://ebcwindsor.com/event/lunch-fellowship-2/2026-12-06/
LOCATION:Emmanuel Baptist Church\, 5445 Walker Road\, Oldcastle\, Ontario\, N0R1L0\, Canada
CATEGORIES:Regular Events
END:VEVENT
BEGIN:VEVENT
DTSTART;TZID=America/Detroit:20261206T130000
DTEND;TZID=America/Detroit:20261206T143000
DTSTAMP:20260425T115528
CREATED:20221007T151633Z
LAST-MODIFIED:20221007T151633Z
UID:15631-1796562000-1796567400@ebcwindsor.com
SUMMARY:Afternoon Worship Service
DESCRIPTION:Afternoon Worship Service. \nThis worship service follows our Lunch Fellowship on the first and third Sundays of each month.
URL:https://ebcwindsor.com/event/evening-worship-service-2/2026-12-06/
LOCATION:Emmanuel Baptist Church\, 5445 Walker Road\, Oldcastle\, Ontario\, N0R1L0\, Canada
CATEGORIES:Regular Events
END:VEVENT
END:VCALENDAR