BEGIN:VCALENDAR
VERSION:2.0
PRODID:-//Emmanuel Baptist Church - ECPv6.15.20//NONSGML v1.0//EN
CALSCALE:GREGORIAN
METHOD:PUBLISH
X-ORIGINAL-URL:https://ebcwindsor.com
X-WR-CALDESC:Events for Emmanuel Baptist Church
REFRESH-INTERVAL;VALUE=DURATION:PT1H
X-Robots-Tag:noindex
X-PUBLISHED-TTL:PT1H
BEGIN:VTIMEZONE
TZID:America/Detroit
BEGIN:DAYLIGHT
TZOFFSETFROM:-0500
TZOFFSETTO:-0400
TZNAME:EDT
DTSTART:20240310T070000
END:DAYLIGHT
BEGIN:STANDARD
TZOFFSETFROM:-0400
TZOFFSETTO:-0500
TZNAME:EST
DTSTART:20241103T060000
END:STANDARD
BEGIN:DAYLIGHT
TZOFFSETFROM:-0500
TZOFFSETTO:-0400
TZNAME:EDT
DTSTART:20250309T070000
END:DAYLIGHT
BEGIN:STANDARD
TZOFFSETFROM:-0400
TZOFFSETTO:-0500
TZNAME:EST
DTSTART:20251102T060000
END:STANDARD
BEGIN:DAYLIGHT
TZOFFSETFROM:-0500
TZOFFSETTO:-0400
TZNAME:EDT
DTSTART:20260308T070000
END:DAYLIGHT
BEGIN:STANDARD
TZOFFSETFROM:-0400
TZOFFSETTO:-0500
TZNAME:EST
DTSTART:20261101T060000
END:STANDARD
BEGIN:DAYLIGHT
TZOFFSETFROM:-0500
TZOFFSETTO:-0400
TZNAME:EDT
DTSTART:20270314T070000
END:DAYLIGHT
BEGIN:STANDARD
TZOFFSETFROM:-0400
TZOFFSETTO:-0500
TZNAME:EST
DTSTART:20271107T060000
END:STANDARD
END:VTIMEZONE
BEGIN:VEVENT
DTSTART;TZID=America/Detroit:20251102T120000
DTEND;TZID=America/Detroit:20251102T143000
DTSTAMP:20260425T115147
CREATED:20251022T010753Z
LAST-MODIFIED:20251022T010753Z
UID:15741-1762084800-1762093800@ebcwindsor.com
SUMMARY:Anniversary Luncheon and Membership Worship Service
DESCRIPTION:Join us as we rejoice over God’s enduring faithfulness to our congregation as we celebrate the anniversary of Emmanuel Baptist Church’s founding! We’re planning to enjoy a catered luncheon before we gather to welcome some new members into our midst in a Membership Worship Service. Please help us prepare with enough food by signing up on the bulletin board. See Cheryl Weller for further details.
URL:https://ebcwindsor.com/event/anniversary-luncheon-and-membership-worship-service-4/
LOCATION:Emmanuel Baptist Church\, 5445 Walker Road\, Oldcastle\, Ontario\, N0R1L0\, Canada
CATEGORIES:Occasional Events
END:VEVENT
BEGIN:VEVENT
DTSTART;TZID=America/Detroit:20251109T110000
DTEND;TZID=America/Detroit:20251109T120000
DTSTAMP:20260425T115147
CREATED:20251011T160827Z
LAST-MODIFIED:20251011T160827Z
UID:15667-1762686000-1762689600@ebcwindsor.com
SUMMARY:Stewardship Panel Discussion
DESCRIPTION:Join us in our Sunday School hour on November 9th for a Panel Discussion on the topic of biblical stewardship. Men from our church will be addressing questions from our congregation\, eager to bring God’s wisdom to bear on issues our members are wrestling through. See Ken Baird for more details.
URL:https://ebcwindsor.com/event/panel-discussion/
LOCATION:Emmanuel Baptist Church\, 5445 Walker Road\, Oldcastle\, Ontario\, N0R1L0\, Canada
CATEGORIES:Occasional Events
END:VEVENT
BEGIN:VEVENT
DTSTART;TZID=America/Detroit:20251122T180000
DTEND;TZID=America/Detroit:20251122T203000
DTSTAMP:20260425T115147
CREATED:20251025T151403Z
LAST-MODIFIED:20251108T005840Z
UID:15745-1763834400-1763843400@ebcwindsor.com
SUMMARY:Men's Bake Off
DESCRIPTION:Join us for a time of fun and fellowship as the men of our church engage in friendly competition to bake the best cake. The Word of God will be opened up to encourage those present in their walk with Christ. \nBakers are asked to have their numbered cakes on display in the Fellowship Hall by 6 PM to allow for a timely start to the judging at 6:15 PM. See Tim Friesen for further details.
URL:https://ebcwindsor.com/event/mens-bake-off/
LOCATION:Emmanuel Baptist Church\, 5445 Walker Road\, Oldcastle\, Ontario\, N0R1L0\, Canada
CATEGORIES:Occasional Events
END:VEVENT
BEGIN:VEVENT
DTSTART;TZID=America/Detroit:20251203T190000
DTEND;TZID=America/Detroit:20251203T201500
DTSTAMP:20260425T115147
CREATED:20240302T011938Z
LAST-MODIFIED:20251011T163148Z
UID:15693-1764788400-1764792900@ebcwindsor.com
SUMMARY:Wednesday Night Prayer Meeting
DESCRIPTION:Join the adults for a short devotional and extended time of prayer with and for one another. Our midweek ministry also includes a Youth Bible study and Wise Crackers\, a time of instruction for those aged 3 through 7.
URL:https://ebcwindsor.com/event/wednesday-night-prayer-meeting-3/2025-12-03/
LOCATION:Emmanuel Baptist Church\, 5445 Walker Road\, Oldcastle\, Ontario\, N0R1L0\, Canada
CATEGORIES:Occasional Events
END:VEVENT
BEGIN:VEVENT
DTSTART;TZID=America/Detroit:20251205T180000
DTEND;TZID=America/Detroit:20251205T213000
DTSTAMP:20260425T115147
CREATED:20251022T010230Z
LAST-MODIFIED:20251022T010230Z
UID:15737-1764957600-1764970200@ebcwindsor.com
SUMMARY:Adult Christmas Banquet
DESCRIPTION:We’re looking forward to spending time together as we fellowship over a catered meal\, rejoicing over the kindness of God in the giving of His Son in the lead up to Christmas. Details will be supplied as plans are finalized.
URL:https://ebcwindsor.com/event/adult-christmas-banquet-4/
LOCATION:Emmanuel Baptist Church\, 5445 Walker Road\, Oldcastle\, Ontario\, N0R1L0\, Canada
CATEGORIES:Occasional Events
END:VEVENT
BEGIN:VEVENT
DTSTART;TZID=America/Detroit:20251210T183000
DTEND;TZID=America/Detroit:20251210T210000
DTSTAMP:20260425T115147
CREATED:20251011T162832Z
LAST-MODIFIED:20251011T162832Z
UID:15695-1765391400-1765400400@ebcwindsor.com
SUMMARY:Christmas Carolling
DESCRIPTION:Come be an encouragement to those we don’t often see as we sing and fellowship together. Please sign up at our bulletin board to help us plan the evening. Groups will meet at their first stop at 6:30 PM. See Pastor Richard for further details.
URL:https://ebcwindsor.com/event/christmas-carolling-4/
LOCATION:Emmanuel Baptist Church\, 5445 Walker Road\, Oldcastle\, Ontario\, N0R1L0\, Canada
CATEGORIES:Occasional Events
END:VEVENT
BEGIN:VEVENT
DTSTART;TZID=America/Detroit:20251213T190000
DTEND;TZID=America/Detroit:20251213T201500
DTSTAMP:20260425T115147
CREATED:20251022T005714Z
LAST-MODIFIED:20251022T005714Z
UID:15733-1765652400-1765656900@ebcwindsor.com
SUMMARY:"A Thrill of Hope" Christmas Music Worship Service
DESCRIPTION:Join us as we recount the hope-giving birth of our Saviour. Our choir will present A Thrill of Hope: A Christmas Musical.
URL:https://ebcwindsor.com/event/thrill/
LOCATION:Emmanuel Baptist Church\, 5445 Walker Road\, Oldcastle\, Ontario\, N0R1L0\, Canada
CATEGORIES:Occasional Events
END:VEVENT
BEGIN:VEVENT
DTSTART;TZID=America/Detroit:20251214T180000
DTEND;TZID=America/Detroit:20251214T201500
DTSTAMP:20260425T115147
CREATED:20251022T005858Z
LAST-MODIFIED:20251022T005858Z
UID:15735-1765735200-1765743300@ebcwindsor.com
SUMMARY:"A Thrill of Hope" Christmas Music Worship Service
DESCRIPTION:Join us as we recount the hope-giving birth of our Saviour. Our choir will present A Thrill of Hope: A Christmas Musical. A time of fellowship over some light snacks will follow the musical as we seek to encourage one another to follow the Lord Jesus Christ.
URL:https://ebcwindsor.com/event/thrill-2/
LOCATION:Emmanuel Baptist Church\, 5445 Walker Road\, Oldcastle\, Ontario\, N0R1L0\, Canada
CATEGORIES:Occasional Events
END:VEVENT
BEGIN:VEVENT
DTSTART;TZID=America/Detroit:20251217T190000
DTEND;TZID=America/Detroit:20251217T201500
DTSTAMP:20260425T115147
CREATED:20240302T011938Z
LAST-MODIFIED:20251011T163148Z
UID:15694-1765998000-1766002500@ebcwindsor.com
SUMMARY:Wednesday Night Prayer Meeting
DESCRIPTION:Join the adults for a short devotional and extended time of prayer with and for one another. Our midweek ministry also includes a Youth Bible study and Wise Crackers\, a time of instruction for those aged 3 through 7.
URL:https://ebcwindsor.com/event/wednesday-night-prayer-meeting-3/2025-12-17/
LOCATION:Emmanuel Baptist Church\, 5445 Walker Road\, Oldcastle\, Ontario\, N0R1L0\, Canada
CATEGORIES:Occasional Events
END:VEVENT
BEGIN:VEVENT
DTSTART;TZID=America/Detroit:20251220T143000
DTEND;TZID=America/Detroit:20251220T170000
DTSTAMP:20260425T115147
CREATED:20251022T010517Z
LAST-MODIFIED:20251213T010834Z
UID:15739-1766241000-1766250000@ebcwindsor.com
SUMMARY:Kids' Christmas Party
DESCRIPTION:The kids of our church are invited to fellowship with one another in celebration of the Christmas season and all Jesus came into the world to accomplish. Details will be supplied as plans are finalized.
URL:https://ebcwindsor.com/event/kids-christmas-party/
LOCATION:Emmanuel Baptist Church\, 5445 Walker Road\, Oldcastle\, Ontario\, N0R1L0\, Canada
CATEGORIES:Occasional Events
END:VEVENT
BEGIN:VEVENT
DTSTART;TZID=America/Detroit:20251224T180000
DTEND;TZID=America/Detroit:20251224T190000
DTSTAMP:20260425T115147
CREATED:20251011T163333Z
LAST-MODIFIED:20251011T163333Z
UID:15703-1766599200-1766602800@ebcwindsor.com
SUMMARY:Christmas Eve Worship Service
DESCRIPTION:Join us as we celebrate the birth of our Lord Jesus on the night before Christmas!
URL:https://ebcwindsor.com/event/christmas-eve-worship-service-4/
LOCATION:Emmanuel Baptist Church\, 5445 Walker Road\, Oldcastle\, Ontario\, N0R1L0\, Canada
CATEGORIES:Occasional Events
END:VEVENT
BEGIN:VEVENT
DTSTART;TZID=America/Detroit:20260204T190000
DTEND;TZID=America/Detroit:20260204T210000
DTSTAMP:20260425T115147
CREATED:20260106T231605Z
LAST-MODIFIED:20260106T231605Z
UID:15884-1770231600-1770238800@ebcwindsor.com
SUMMARY:Annual Business Meeting
DESCRIPTION:
URL:https://ebcwindsor.com/event/annual-business-meeting-3/
LOCATION:Emmanuel Baptist Church\, 5445 Walker Road\, Oldcastle\, Ontario\, N0R1L0\, Canada
CATEGORIES:Occasional Events
END:VEVENT
BEGIN:VEVENT
DTSTART;TZID=America/Detroit:20260213T190000
DTEND;TZID=America/Detroit:20260213T210000
DTSTAMP:20260425T115147
CREATED:20260112T095543Z
LAST-MODIFIED:20260112T095700Z
UID:15903-1771009200-1771016400@ebcwindsor.com
SUMMARY:Adult "Valentines" Fellowship Night
DESCRIPTION:You’re invited to join us for an adult fellowship as we come together to encourage one another in the Lord. We are planning to share some simple finger foods\, enjoy a few games\, and be ministered to as the Word of God is opened up to us in a devotional. A sign-up sheet is posted on the bulletin board to help us plan who will bring food items.
URL:https://ebcwindsor.com/event/adult-valentines-fellowship-night-2/
LOCATION:Emmanuel Baptist Church\, 5445 Walker Road\, Oldcastle\, Ontario\, N0R1L0\, Canada
CATEGORIES:Occasional Events
END:VEVENT
BEGIN:VEVENT
DTSTART;TZID=America/Detroit:20260301T114500
DTEND;TZID=America/Detroit:20260301T124500
DTSTAMP:20260425T115147
CREATED:20260209T085450Z
LAST-MODIFIED:20260209T085450Z
UID:15939-1772365500-1772369100@ebcwindsor.com
SUMMARY:Chilli Lunch Fellowship
DESCRIPTION:You’re welcome to join us for a Chilli Lunch Fellowship. Please refer to the sign-up sheet on our bulletin board to see what you can bring as we plan to encourage one another and enjoy the good gifts God gives between our Sunday School hour and afternoon worship service. See Cheryl Weller for further details.
URL:https://ebcwindsor.com/event/chilli-lunch-fellowship/
LOCATION:Emmanuel Baptist Church\, 5445 Walker Road\, Oldcastle\, Ontario\, N0R1L0\, Canada
CATEGORIES:Occasional Events
END:VEVENT
END:VCALENDAR