BEGIN:VCALENDAR
VERSION:2.0
PRODID:-//Emmanuel Baptist Church - ECPv6.15.20//NONSGML v1.0//EN
CALSCALE:GREGORIAN
METHOD:PUBLISH
X-ORIGINAL-URL:https://ebcwindsor.com
X-WR-CALDESC:Events for Emmanuel Baptist Church
REFRESH-INTERVAL;VALUE=DURATION:PT1H
X-Robots-Tag:noindex
X-PUBLISHED-TTL:PT1H
BEGIN:VTIMEZONE
TZID:America/Detroit
BEGIN:DAYLIGHT
TZOFFSETFROM:-0500
TZOFFSETTO:-0400
TZNAME:EDT
DTSTART:20230312T070000
END:DAYLIGHT
BEGIN:STANDARD
TZOFFSETFROM:-0400
TZOFFSETTO:-0500
TZNAME:EST
DTSTART:20231105T060000
END:STANDARD
BEGIN:DAYLIGHT
TZOFFSETFROM:-0500
TZOFFSETTO:-0400
TZNAME:EDT
DTSTART:20240310T070000
END:DAYLIGHT
BEGIN:STANDARD
TZOFFSETFROM:-0400
TZOFFSETTO:-0500
TZNAME:EST
DTSTART:20241103T060000
END:STANDARD
BEGIN:DAYLIGHT
TZOFFSETFROM:-0500
TZOFFSETTO:-0400
TZNAME:EDT
DTSTART:20250309T070000
END:DAYLIGHT
BEGIN:STANDARD
TZOFFSETFROM:-0400
TZOFFSETTO:-0500
TZNAME:EST
DTSTART:20251102T060000
END:STANDARD
BEGIN:DAYLIGHT
TZOFFSETFROM:-0500
TZOFFSETTO:-0400
TZNAME:EDT
DTSTART:20260308T070000
END:DAYLIGHT
BEGIN:STANDARD
TZOFFSETFROM:-0400
TZOFFSETTO:-0500
TZNAME:EST
DTSTART:20261101T060000
END:STANDARD
END:VTIMEZONE
BEGIN:VEVENT
DTSTART;TZID=America/Detroit:20250420T074500
DTEND;TZID=America/Detroit:20250420T093000
DTSTAMP:20260425T075234
CREATED:20250322T085812Z
LAST-MODIFIED:20250322T085812Z
UID:15010-1745135100-1745141400@ebcwindsor.com
SUMMARY:Easter Sunday Breakfast Fellowship
DESCRIPTION:You’re welcome to join us for breakfast at one of our local restaurants as we spend time encouraging one another on Easter Sunday between our 7 AM Sunrise Worship Service and regular 9:30 AM Worship Service. Please sign up on the bulletin board to help us prepare!
URL:https://ebcwindsor.com/event/easter-breakfast-2025/
LOCATION:Ontario
CATEGORIES:Occasional Events
END:VEVENT
BEGIN:VEVENT
DTSTART;TZID=America/Detroit:20250420T070000
DTEND;TZID=America/Detroit:20250420T074500
DTSTAMP:20260425T075234
CREATED:20250322T085701Z
LAST-MODIFIED:20250322T085701Z
UID:15009-1745132400-1745135100@ebcwindsor.com
SUMMARY:Sunrise Worship Service
DESCRIPTION:Join us as we worship God while the sun rises on the Lord’s Day. Come\, celebrate the resurrection of our Lord Jesus Christ! “He is risen!”
URL:https://ebcwindsor.com/event/sunrise-service-2025/
LOCATION:Emmanuel Baptist Church\, 5445 Walker Road\, Oldcastle\, Ontario\, N0R1L0\, Canada
CATEGORIES:Occasional Events
END:VEVENT
BEGIN:VEVENT
DTSTART;TZID=America/Detroit:20250418T180000
DTEND;TZID=America/Detroit:20250418T190000
DTSTAMP:20260425T075234
CREATED:20250322T085554Z
LAST-MODIFIED:20250322T085605Z
UID:15011-1744999200-1745002800@ebcwindsor.com
SUMMARY:Good Friday Worship Service
DESCRIPTION:Join us on the evening of Good Friday as we worship our God in light of the death of His Son to pay the penalty for all our sins. Rejoice with us\, for “It is finished!”
URL:https://ebcwindsor.com/event/good-friday-2025/
LOCATION:Emmanuel Baptist Church\, 5445 Walker Road\, Oldcastle\, Ontario\, N0R1L0\, Canada
CATEGORIES:Occasional Events
END:VEVENT
BEGIN:VEVENT
DTSTART;TZID=America/Detroit:20250308T090000
DTEND;TZID=America/Detroit:20250308T090000
DTSTAMP:20260425T075234
CREATED:20250215T104916Z
LAST-MODIFIED:20250215T104954Z
UID:14913-1741424400-1741424400@ebcwindsor.com
SUMMARY:Breakfast at Linda's
DESCRIPTION:See Linda Morrell for further details.
URL:https://ebcwindsor.com/event/breakfast-at-lindas/
LOCATION:Ontario
CATEGORIES:Occasional Events
END:VEVENT
BEGIN:VEVENT
DTSTART;TZID=America/Detroit:20250219T190000
DTEND;TZID=America/Detroit:20250219T210000
DTSTAMP:20260425T075234
CREATED:20241215T185908Z
LAST-MODIFIED:20250212T220229Z
UID:14751-1739991600-1739998800@ebcwindsor.com
SUMMARY:Annual Business Meeting
DESCRIPTION:
URL:https://ebcwindsor.com/event/annual-business-meeting-2/
LOCATION:Emmanuel Baptist Church\, 5445 Walker Road\, Oldcastle\, Ontario\, N0R1L0\, Canada
CATEGORIES:Occasional Events
END:VEVENT
BEGIN:VEVENT
DTSTART;TZID=America/Detroit:20250101T190000
DTEND;TZID=America/Detroit:20250101T210000
DTSTAMP:20260425T075234
CREATED:20241029T191953Z
LAST-MODIFIED:20241115T223342Z
UID:14593-1735758000-1735765200@ebcwindsor.com
SUMMARY:Start-of-the-Year Prayer Meeting
DESCRIPTION:Gather with us for prayer as we begin the year’s Wednesday night program thanking God for all He is and has done for us as a church. We’ll pray also for the grace He promises to provide as we seek to start the new year well!
URL:https://ebcwindsor.com/event/prayer-meeting/
LOCATION:Emmanuel Baptist Church\, 5445 Walker Road\, Oldcastle\, Ontario\, N0R1L0\, Canada
CATEGORIES:Occasional Events
END:VEVENT
BEGIN:VEVENT
DTSTART;TZID=America/Detroit:20241224T180000
DTEND;TZID=America/Detroit:20241224T190000
DTSTAMP:20260425T075234
CREATED:20241029T195928Z
LAST-MODIFIED:20241215T112325Z
UID:14595-1735063200-1735066800@ebcwindsor.com
SUMMARY:Christmas Eve Worship Service
DESCRIPTION:Join us as we celebrate the birth of our Lord Jesus on the night before Christmas!
URL:https://ebcwindsor.com/event/christmas-eve-worship-service-3/
LOCATION:Emmanuel Baptist Church\, 5445 Walker Road\, Oldcastle\, Ontario\, N0R1L0\, Canada
CATEGORIES:Occasional Events
END:VEVENT
BEGIN:VEVENT
DTSTART;TZID=America/Detroit:20241218T183000
DTEND;TZID=America/Detroit:20241218T210000
DTSTAMP:20260425T075234
CREATED:20241029T191354Z
LAST-MODIFIED:20241215T185147Z
UID:14589-1734546600-1734555600@ebcwindsor.com
SUMMARY:Annual Movie Fellowship Night
DESCRIPTION:Stay tuned for details regarding what movie we’ll enjoy together as we seek to build one another up in this busy Christmas season. (There will be no Teen Bible Study or Wise Crackers ministry this evening.)
URL:https://ebcwindsor.com/event/annual-movie-fellowship-night-2/
LOCATION:Emmanuel Baptist Church\, 5445 Walker Road\, Oldcastle\, Ontario\, N0R1L0\, Canada
CATEGORIES:Occasional Events
END:VEVENT
BEGIN:VEVENT
DTSTART;TZID=America/Detroit:20241215T180000
DTEND;TZID=America/Detroit:20241215T193000
DTSTAMP:20260425T075234
CREATED:20241029T191049Z
LAST-MODIFIED:20241029T191049Z
UID:14585-1734285600-1734291000@ebcwindsor.com
SUMMARY:Christmas Music Worship Service
DESCRIPTION:Join us as we celebrate the birth of our Saviour with a worship service full of Scripture reading\, special musical performance\, and congregational singing. A time of fellowship over some light snacks will follow the worship service as we seek to encourage one another to follow the Lord Jesus Christ.
URL:https://ebcwindsor.com/event/christmas-music-service/
LOCATION:Emmanuel Baptist Church\, 5445 Walker Road\, Oldcastle\, Ontario\, N0R1L0\, Canada
CATEGORIES:Occasional Events
END:VEVENT
BEGIN:VEVENT
DTSTART;TZID=America/Detroit:20241211T183000
DTEND;TZID=America/Detroit:20241211T210000
DTSTAMP:20260425T075234
CREATED:20241029T190931Z
LAST-MODIFIED:20241029T190931Z
UID:14584-1733941800-1733950800@ebcwindsor.com
SUMMARY:Christmas Carolling
DESCRIPTION:Come be an encouragement to those we don’t often see as we sing and fellowship together. Please sign up at our bulletin board to help us plan the evening. Groups will meet at their first stop at 6:30 PM. See Pastor Richard for further details.
URL:https://ebcwindsor.com/event/christmas-carolling-3/
LOCATION:Emmanuel Baptist Church\, 5445 Walker Road\, Oldcastle\, Ontario\, N0R1L0\, Canada
CATEGORIES:Occasional Events
END:VEVENT
BEGIN:VEVENT
DTSTART;TZID=America/Detroit:20241206T180000
DTEND;TZID=America/Detroit:20241206T213000
DTSTAMP:20260425T075234
CREATED:20241029T190809Z
LAST-MODIFIED:20241029T190809Z
UID:14583-1733508000-1733520600@ebcwindsor.com
SUMMARY:Adult Christmas Banquet
DESCRIPTION:We’re looking forward to spending time together as we fellowship over a catered meal\, rejoicing over the kindness of God in the giving of His Son in the lead up to Christmas. If you would like to participate in our gift exchange game\, please plan to bring a wrapped gift of no more than $15 value (one gift per family). Please help us prepare with enough food by signing up on the bulletin board. See Mary Friesen for further details.
URL:https://ebcwindsor.com/event/adult-christmas-banquet-3/
LOCATION:Emmanuel Baptist Church\, 5445 Walker Road\, Oldcastle\, Ontario\, N0R1L0\, Canada
CATEGORIES:Occasional Events
END:VEVENT
BEGIN:VEVENT
DTSTART;TZID=America/Detroit:20241127T190000
DTEND;TZID=America/Detroit:20241127T201500
DTSTAMP:20260425T075234
CREATED:20240703T112929Z
LAST-MODIFIED:20241014T095149Z
UID:14297-1732734000-1732738500@ebcwindsor.com
SUMMARY:"You\, Me and the Bible" Study
DESCRIPTION:We’re excited to work through this 6-week Bible study to discover the central message of the Bible. The passages we’ll study are taken from all over the Bible\, and introduce readers to God as our creator and ruler; Humanity as rebels against God; God’s judgement on our rebellion; Jesus’ death for our sins; Jesus’ resurrection as Lord of all; and the twofold response that all this requires of us. This study will benefit those who have been studying God’s Word for years\, and those less familiar with what the Bible says and how it fits together. In fact\, it’s an ideal study to reach the unsaved for Christ! See here for more details and check out TwoWaysToLive.com to become familiar with the 6 key concepts we’ll examine. \nDownload an electronic copy of the questions for this study: \nPDF: You\, Me and the Bible—questions Word: You\, Me and the Bible—questions \nOur midweek ministry also includes a youth Bible study and Wise Crackers\, a time of instruction for those aged 3 through 7.
URL:https://ebcwindsor.com/event/you-me-bible/2024-11-27/
LOCATION:Emmanuel Baptist Church\, 5445 Walker Road\, Oldcastle\, Ontario\, N0R1L0\, Canada
CATEGORIES:Occasional Events
END:VEVENT
BEGIN:VEVENT
DTSTART;TZID=America/Detroit:20241120T190000
DTEND;TZID=America/Detroit:20241120T201500
DTSTAMP:20260425T075234
CREATED:20240703T112929Z
LAST-MODIFIED:20241014T095230Z
UID:14296-1732129200-1732133700@ebcwindsor.com
SUMMARY:"You\, Me and the Bible" Study
DESCRIPTION:We’re excited to work through this 6-week Bible study to discover the central message of the Bible. The passages we’ll study are taken from all over the Bible\, and introduce readers to God as our creator and ruler; Humanity as rebels against God; God’s judgement on our rebellion; Jesus’ death for our sins; Jesus’ resurrection as Lord of all; and the twofold response that all this requires of us. This study will benefit those who have been studying God’s Word for years\, and those less familiar with what the Bible says and how it fits together. In fact\, it’s an ideal study to reach the unsaved for Christ! See here for more details and check out TwoWaysToLive.com to become familiar with the 6 key concepts we’ll examine. \nDownload an electronic copy of the questions for this study: \nPDF: You\, Me and the Bible—questions Word: You\, Me and the Bible—questions \nOur midweek ministry also includes a youth Bible study and Wise Crackers\, a time of instruction for those aged 3 through 7.
URL:https://ebcwindsor.com/event/you-me-bible/2024-11-20/
LOCATION:Emmanuel Baptist Church\, 5445 Walker Road\, Oldcastle\, Ontario\, N0R1L0\, Canada
CATEGORIES:Occasional Events
END:VEVENT
BEGIN:VEVENT
DTSTART;TZID=America/Detroit:20241113T190000
DTEND;TZID=America/Detroit:20241113T201500
DTSTAMP:20260425T075234
CREATED:20240703T112929Z
LAST-MODIFIED:20241014T095258Z
UID:14295-1731524400-1731528900@ebcwindsor.com
SUMMARY:"You\, Me and the Bible" Study
DESCRIPTION:We’re excited to work through this 6-week Bible study to discover the central message of the Bible. The passages we’ll study are taken from all over the Bible\, and introduce readers to God as our creator and ruler; Humanity as rebels against God; God’s judgement on our rebellion; Jesus’ death for our sins; Jesus’ resurrection as Lord of all; and the twofold response that all this requires of us. This study will benefit those who have been studying God’s Word for years\, and those less familiar with what the Bible says and how it fits together. In fact\, it’s an ideal study to reach the unsaved for Christ! See here for more details and check out TwoWaysToLive.com to become familiar with the 6 key concepts we’ll examine. \nDownload an electronic copy of the questions for this study: \nPDF: You\, Me and the Bible—questions Word: You\, Me and the Bible—questions \nOur midweek ministry also includes a youth Bible study and Wise Crackers\, a time of instruction for those aged 3 through 7.
URL:https://ebcwindsor.com/event/you-me-bible/2024-11-13/
LOCATION:Emmanuel Baptist Church\, 5445 Walker Road\, Oldcastle\, Ontario\, N0R1L0\, Canada
CATEGORIES:Occasional Events
END:VEVENT
BEGIN:VEVENT
DTSTART;TZID=America/Detroit:20241106T190000
DTEND;TZID=America/Detroit:20241106T201500
DTSTAMP:20260425T075234
CREATED:20240703T112929Z
LAST-MODIFIED:20241014T095324Z
UID:14294-1730919600-1730924100@ebcwindsor.com
SUMMARY:"You\, Me and the Bible" Study
DESCRIPTION:We’re excited to work through this 6-week Bible study to discover the central message of the Bible. The passages we’ll study are taken from all over the Bible\, and introduce readers to God as our creator and ruler; Humanity as rebels against God; God’s judgement on our rebellion; Jesus’ death for our sins; Jesus’ resurrection as Lord of all; and the twofold response that all this requires of us. This study will benefit those who have been studying God’s Word for years\, and those less familiar with what the Bible says and how it fits together. In fact\, it’s an ideal study to reach the unsaved for Christ! See here for more details and check out TwoWaysToLive.com to become familiar with the 6 key concepts we’ll examine. \nDownload an electronic copy of the questions for this study: \nPDF: You\, Me and the Bible—questions Word: You\, Me and the Bible—questions \nOur midweek ministry also includes a youth Bible study and Wise Crackers\, a time of instruction for those aged 3 through 7.
URL:https://ebcwindsor.com/event/you-me-bible/2024-11-06/
LOCATION:Emmanuel Baptist Church\, 5445 Walker Road\, Oldcastle\, Ontario\, N0R1L0\, Canada
CATEGORIES:Occasional Events
END:VEVENT
BEGIN:VEVENT
DTSTART;TZID=America/Detroit:20241103T120000
DTEND;TZID=America/Detroit:20241103T143000
DTSTAMP:20260425T075234
CREATED:20240913T234300Z
LAST-MODIFIED:20241102T081054Z
UID:14506-1730635200-1730644200@ebcwindsor.com
SUMMARY:Anniversary Luncheon and Membership Worship Service
DESCRIPTION:Join us as we rejoice over God’s enduring faithfulness to our congregation as we celebrate the 73rd anniversary of Emmanuel Baptist Church! We’re planning to enjoy a catered luncheon before we gather to welcome some new members into our midst in a Membership Worship Service. Please help us prepare with enough food by signing up on the bulletin board. See Richard Byrne for further details.
URL:https://ebcwindsor.com/event/anniversary-luncheon-and-membership-worship-service-3/
LOCATION:Emmanuel Baptist Church\, 5445 Walker Road\, Oldcastle\, Ontario\, N0R1L0\, Canada
CATEGORIES:Occasional Events
END:VEVENT
BEGIN:VEVENT
DTSTART;TZID=America/Detroit:20241101T180000
DTEND;TZID=America/Detroit:20241101T203000
DTSTAMP:20260425T075234
CREATED:20240913T234035Z
LAST-MODIFIED:20240913T234049Z
UID:14504-1730484000-1730493000@ebcwindsor.com
SUMMARY:Anniversary Weekend Fellowship BBQ
DESCRIPTION:Join us on the Friday of our congregation’s anniversary weekend for a hot dog BBQ fellowship\, bonfire\, and song service. You’ll be encouraged as we gather around the Word of God\, sing with one another\, and enjoy a good meal with us. Please sign up on our bulletin board to help us prepare with enough food for this event. See Richard Byrne for further details.
URL:https://ebcwindsor.com/event/anniv-bbq/
LOCATION:Emmanuel Baptist Church\, 5445 Walker Road\, Oldcastle\, Ontario\, N0R1L0\, Canada
CATEGORIES:Occasional Events
END:VEVENT
BEGIN:VEVENT
DTSTART;TZID=America/Detroit:20241030T190000
DTEND;TZID=America/Detroit:20241030T201500
DTSTAMP:20260425T075234
CREATED:20240703T112929Z
LAST-MODIFIED:20241014T095352Z
UID:14293-1730314800-1730319300@ebcwindsor.com
SUMMARY:"You\, Me and the Bible" Study
DESCRIPTION:We’re excited to work through this 6-week Bible study to discover the central message of the Bible. The passages we’ll study are taken from all over the Bible\, and introduce readers to God as our creator and ruler; Humanity as rebels against God; God’s judgement on our rebellion; Jesus’ death for our sins; Jesus’ resurrection as Lord of all; and the twofold response that all this requires of us. This study will benefit those who have been studying God’s Word for years\, and those less familiar with what the Bible says and how it fits together. In fact\, it’s an ideal study to reach the unsaved for Christ! See here for more details and check out TwoWaysToLive.com to become familiar with the 6 key concepts we’ll examine. \nDownload an electronic copy of the questions for this study: \nPDF: You\, Me and the Bible—questions Word: You\, Me and the Bible—questions \nOur midweek ministry also includes a youth Bible study and Wise Crackers\, a time of instruction for those aged 3 through 7.
URL:https://ebcwindsor.com/event/you-me-bible/2024-10-30/
LOCATION:Emmanuel Baptist Church\, 5445 Walker Road\, Oldcastle\, Ontario\, N0R1L0\, Canada
CATEGORIES:Occasional Events
END:VEVENT
BEGIN:VEVENT
DTSTART;TZID=America/Detroit:20241023T190000
DTEND;TZID=America/Detroit:20241023T201500
DTSTAMP:20260425T075234
CREATED:20240703T112929Z
LAST-MODIFIED:20241014T095039Z
UID:14291-1729710000-1729714500@ebcwindsor.com
SUMMARY:"You\, Me and the Bible" Study
DESCRIPTION:We’re excited to work through this 6-week Bible study to discover the central message of the Bible. The passages we’ll study are taken from all over the Bible\, and introduce readers to God as our creator and ruler; Humanity as rebels against God; God’s judgement on our rebellion; Jesus’ death for our sins; Jesus’ resurrection as Lord of all; and the twofold response that all this requires of us. This study will benefit those who have been studying God’s Word for years\, and those less familiar with what the Bible says and how it fits together. In fact\, it’s an ideal study to reach the unsaved for Christ! See here for more details and check out TwoWaysToLive.com to become familiar with the 6 key concepts we’ll examine. \nDownload an electronic copy of the questions for this study: \nPDF: You\, Me and the Bible—questions Word: You\, Me and the Bible—questions \nOur midweek ministry also includes a youth Bible study and Wise Crackers\, a time of instruction for those aged 3 through 7.
URL:https://ebcwindsor.com/event/you-me-bible/2024-10-23/
LOCATION:Emmanuel Baptist Church\, 5445 Walker Road\, Oldcastle\, Ontario\, N0R1L0\, Canada
CATEGORIES:Occasional Events
END:VEVENT
BEGIN:VEVENT
DTSTART;TZID=America/Detroit:20241018T183000
DTEND;TZID=America/Detroit:20241018T203000
DTSTAMP:20260425T075234
CREATED:20240913T225408Z
LAST-MODIFIED:20240913T225546Z
UID:14501-1729276200-1729283400@ebcwindsor.com
SUMMARY:Men's Bake Off
DESCRIPTION:The Men’s Bake Off has returned to our calendar! Join us for a time of fun and fellowship as the men of our church engage in friendly competition to bake the best cake. Of course\, the Word of God will be opened up to encourage those present in their walk with Christ. \nBakers are asked to have their numbered cakes on display in the Fellowship Hall by 6:30 PM to allow for a timely start to the judging. See Tim Friesen for further details.
URL:https://ebcwindsor.com/event/mens-bakeoff/
LOCATION:Emmanuel Baptist Church\, 5445 Walker Road\, Oldcastle\, Ontario\, N0R1L0\, Canada
CATEGORIES:Occasional Events
END:VEVENT
BEGIN:VEVENT
DTSTART;TZID=America/Detroit:20241016T190000
DTEND;TZID=America/Detroit:20241016T201500
DTSTAMP:20260425T075234
CREATED:20240703T125400Z
LAST-MODIFIED:20240703T125720Z
UID:14325-1729105200-1729109700@ebcwindsor.com
SUMMARY:Wednesday Night Evangelism Study
DESCRIPTION:We’re excited to undertake another short study through the 9Marks Health Church Study series\, this time focussing on evangelism. Join us as we work through Reaching the Lost to be equipped for the important task of making disciples of Christ. Based on J. Mack Stiles’ helpful book Evangelism\, this study will challenge each table group to consider the responsibility we have to make the person and work of Jesus known to the unbelieving world around us. Our midweek ministry also includes a Teen Bible study through The Gospel Project\, and Wise Crackers\, a time of instruction for those aged 3 through 7.
URL:https://ebcwindsor.com/event/evangelism-study/2024-10-16/
LOCATION:Ontario
CATEGORIES:Occasional Events
END:VEVENT
BEGIN:VEVENT
DTSTART;TZID=America/Detroit:20241009T190000
DTEND;TZID=America/Detroit:20241009T201500
DTSTAMP:20260425T075234
CREATED:20240703T125400Z
LAST-MODIFIED:20240703T125720Z
UID:14324-1728500400-1728504900@ebcwindsor.com
SUMMARY:Wednesday Night Evangelism Study
DESCRIPTION:We’re excited to undertake another short study through the 9Marks Health Church Study series\, this time focussing on evangelism. Join us as we work through Reaching the Lost to be equipped for the important task of making disciples of Christ. Based on J. Mack Stiles’ helpful book Evangelism\, this study will challenge each table group to consider the responsibility we have to make the person and work of Jesus known to the unbelieving world around us. Our midweek ministry also includes a Teen Bible study through The Gospel Project\, and Wise Crackers\, a time of instruction for those aged 3 through 7.
URL:https://ebcwindsor.com/event/evangelism-study/2024-10-09/
LOCATION:Ontario
CATEGORIES:Occasional Events
END:VEVENT
BEGIN:VEVENT
DTSTART;TZID=America/Detroit:20241002T190000
DTEND;TZID=America/Detroit:20241002T201500
DTSTAMP:20260425T075234
CREATED:20240703T125400Z
LAST-MODIFIED:20240703T125719Z
UID:14323-1727895600-1727900100@ebcwindsor.com
SUMMARY:Wednesday Night Evangelism Study
DESCRIPTION:We’re excited to undertake another short study through the 9Marks Health Church Study series\, this time focussing on evangelism. Join us as we work through Reaching the Lost to be equipped for the important task of making disciples of Christ. Based on J. Mack Stiles’ helpful book Evangelism\, this study will challenge each table group to consider the responsibility we have to make the person and work of Jesus known to the unbelieving world around us. Our midweek ministry also includes a Teen Bible study through The Gospel Project\, and Wise Crackers\, a time of instruction for those aged 3 through 7.
URL:https://ebcwindsor.com/event/evangelism-study/2024-10-02/
LOCATION:Ontario
CATEGORIES:Occasional Events
END:VEVENT
BEGIN:VEVENT
DTSTART;TZID=America/Detroit:20240925T190000
DTEND;TZID=America/Detroit:20240925T201500
DTSTAMP:20260425T075234
CREATED:20240703T125400Z
LAST-MODIFIED:20240703T125719Z
UID:14322-1727290800-1727295300@ebcwindsor.com
SUMMARY:Wednesday Night Evangelism Study
DESCRIPTION:We’re excited to undertake another short study through the 9Marks Health Church Study series\, this time focussing on evangelism. Join us as we work through Reaching the Lost to be equipped for the important task of making disciples of Christ. Based on J. Mack Stiles’ helpful book Evangelism\, this study will challenge each table group to consider the responsibility we have to make the person and work of Jesus known to the unbelieving world around us. Our midweek ministry also includes a Teen Bible study through The Gospel Project\, and Wise Crackers\, a time of instruction for those aged 3 through 7.
URL:https://ebcwindsor.com/event/evangelism-study/2024-09-25/
LOCATION:Ontario
CATEGORIES:Occasional Events
END:VEVENT
BEGIN:VEVENT
DTSTART;TZID=America/Detroit:20240918T190000
DTEND;TZID=America/Detroit:20240918T201500
DTSTAMP:20260425T075234
CREATED:20240703T125400Z
LAST-MODIFIED:20240703T125719Z
UID:14321-1726686000-1726690500@ebcwindsor.com
SUMMARY:Wednesday Night Evangelism Study
DESCRIPTION:We’re excited to undertake another short study through the 9Marks Health Church Study series\, this time focussing on evangelism. Join us as we work through Reaching the Lost to be equipped for the important task of making disciples of Christ. Based on J. Mack Stiles’ helpful book Evangelism\, this study will challenge each table group to consider the responsibility we have to make the person and work of Jesus known to the unbelieving world around us. Our midweek ministry also includes a Teen Bible study through The Gospel Project\, and Wise Crackers\, a time of instruction for those aged 3 through 7.
URL:https://ebcwindsor.com/event/evangelism-study/2024-09-18/
LOCATION:Ontario
CATEGORIES:Occasional Events
END:VEVENT
BEGIN:VEVENT
DTSTART;TZID=America/Detroit:20240911T190000
DTEND;TZID=America/Detroit:20240911T201500
DTSTAMP:20260425T075234
CREATED:20240703T125400Z
LAST-MODIFIED:20240703T125719Z
UID:14319-1726081200-1726085700@ebcwindsor.com
SUMMARY:Wednesday Night Evangelism Study
DESCRIPTION:We’re excited to undertake another short study through the 9Marks Health Church Study series\, this time focussing on evangelism. Join us as we work through Reaching the Lost to be equipped for the important task of making disciples of Christ. Based on J. Mack Stiles’ helpful book Evangelism\, this study will challenge each table group to consider the responsibility we have to make the person and work of Jesus known to the unbelieving world around us. Our midweek ministry also includes a Teen Bible study through The Gospel Project\, and Wise Crackers\, a time of instruction for those aged 3 through 7.
URL:https://ebcwindsor.com/event/evangelism-study/2024-09-11/
LOCATION:Ontario
CATEGORIES:Occasional Events
END:VEVENT
BEGIN:VEVENT
DTSTART;TZID=America/Detroit:20240818T120000
DTEND;TZID=America/Detroit:20240818T133000
DTSTAMP:20260425T075234
CREATED:20240720T020254Z
LAST-MODIFIED:20240729T020019Z
UID:14368-1723982400-1723987800@ebcwindsor.com
SUMMARY:VBS Worker/Parent Appreciation BBQ
DESCRIPTION:This fellowship event is being planned to bring us together to celebrate the Lord’s goodness through VBS 2024! We’re aiming to appreciate and encourage all who were involved through prayer and hands-on ministry\, and to come alongside the parents who brought along their children to hear the gospel proclaimed. Plan to stay for lunch and rejoice with us between our morning and afternoon worship services. Please sign up at our bulletin board to help us prepare for this special event. See Richard Byrne for further details.
URL:https://ebcwindsor.com/event/vbs-bbq-2024/
LOCATION:Emmanuel Baptist Church\, 5445 Walker Road\, Oldcastle\, Ontario\, N0R1L0\, Canada
CATEGORIES:Occasional Events
END:VEVENT
BEGIN:VEVENT
DTSTART;TZID=America/Detroit:20240722T183000
DTEND;TZID=America/Detroit:20240726T203000
DTSTAMP:20260425T075234
CREATED:20240302T013113Z
LAST-MODIFIED:20240616T190607Z
UID:13934-1721673000-1722025800@ebcwindsor.com
SUMMARY:Vacation Bible School
DESCRIPTION:Our theme for this year’s VBS is Wildlive!. We’ll be leading through “[an] animal theme where kids encounter creatures from around the planet\, complete with amazing skills\, special habitats\, and surprising features. Through the lessons\, students will focus on Jesus’ captivating character and discover how to follow Him in their own ‘habitats.'” \nChildren aged 4 through 12 (and their parents) are welcome to enjoy biblical teaching\, singing\, snacks\, and games! \n >>> Register here <<<
URL:https://ebcwindsor.com/event/vbs/
LOCATION:Emmanuel Baptist Church\, 5445 Walker Road\, Oldcastle\, Ontario\, N0R1L0\, Canada
CATEGORIES:Occasional Events
END:VEVENT
BEGIN:VEVENT
DTSTART;TZID=America/Detroit:20240715T190000
DTEND;TZID=America/Detroit:20240719T210000
DTSTAMP:20260425T075234
CREATED:20240302T012758Z
LAST-MODIFIED:20240302T012758Z
UID:13935-1721070000-1721422800@ebcwindsor.com
SUMMARY:Vacation Bible School Preparation Week
DESCRIPTION:
URL:https://ebcwindsor.com/event/vacation-bible-school-preparation-week-2/
LOCATION:Emmanuel Baptist Church\, 5445 Walker Road\, Oldcastle\, Ontario\, N0R1L0\, Canada
CATEGORIES:Occasional Events
END:VEVENT
BEGIN:VEVENT
DTSTART;TZID=America/Detroit:20240707T114500
DTEND;TZID=America/Detroit:20240707T124500
DTSTAMP:20260425T075234
CREATED:20240311T225111Z
LAST-MODIFIED:20240311T225111Z
UID:14012-1720352700-1720356300@ebcwindsor.com
SUMMARY:BBQ Lunch with the Carlyles
DESCRIPTION:You’re welcome to join us for a BBQ Lunch Fellowship as we host the Carlyle family from Michigan. Please refer to the sign-up sheet on our bulletin board to see what you can bring as we plan to encourage them and rejoice in what the Lord is doing through them. See Cheryl Weller for further details.
URL:https://ebcwindsor.com/event/bbq-lunch-with-the-carlyles/
LOCATION:Emmanuel Baptist Church\, 5445 Walker Road\, Oldcastle\, Ontario\, N0R1L0\, Canada
CATEGORIES:Occasional Events
END:VEVENT
END:VCALENDAR