BEGIN:VCALENDAR
VERSION:2.0
PRODID:-//Emmanuel Baptist Church - ECPv6.15.20//NONSGML v1.0//EN
CALSCALE:GREGORIAN
METHOD:PUBLISH
X-WR-CALNAME:Emmanuel Baptist Church
X-ORIGINAL-URL:https://ebcwindsor.com
X-WR-CALDESC:Events for Emmanuel Baptist Church
REFRESH-INTERVAL;VALUE=DURATION:PT1H
X-Robots-Tag:noindex
X-PUBLISHED-TTL:PT1H
BEGIN:VTIMEZONE
TZID:America/Detroit
BEGIN:DAYLIGHT
TZOFFSETFROM:-0500
TZOFFSETTO:-0400
TZNAME:EDT
DTSTART:20250309T070000
END:DAYLIGHT
BEGIN:STANDARD
TZOFFSETFROM:-0400
TZOFFSETTO:-0500
TZNAME:EST
DTSTART:20251102T060000
END:STANDARD
BEGIN:DAYLIGHT
TZOFFSETFROM:-0500
TZOFFSETTO:-0400
TZNAME:EDT
DTSTART:20260308T070000
END:DAYLIGHT
BEGIN:STANDARD
TZOFFSETFROM:-0400
TZOFFSETTO:-0500
TZNAME:EST
DTSTART:20261101T060000
END:STANDARD
BEGIN:DAYLIGHT
TZOFFSETFROM:-0500
TZOFFSETTO:-0400
TZNAME:EDT
DTSTART:20270314T070000
END:DAYLIGHT
BEGIN:STANDARD
TZOFFSETFROM:-0400
TZOFFSETTO:-0500
TZNAME:EST
DTSTART:20271107T060000
END:STANDARD
END:VTIMEZONE
BEGIN:VEVENT
DTSTART;TZID=America/Detroit:20260628T180000
DTEND;TZID=America/Detroit:20260628T193000
DTSTAMP:20260425T114044
CREATED:20221116T030155Z
LAST-MODIFIED:20221116T030155Z
UID:14290-1782669600-1782675000@ebcwindsor.com
SUMMARY:Evening Worship Service
DESCRIPTION:Evening Worship Service
URL:https://ebcwindsor.com/event/evening-worship-service-3/2026-06-28/
LOCATION:Emmanuel Baptist Church\, 5445 Walker Road\, Oldcastle\, Ontario\, N0R1L0\, Canada
CATEGORIES:Regular Events
END:VEVENT
BEGIN:VEVENT
DTSTART;TZID=America/Detroit:20260628T110000
DTEND;TZID=America/Detroit:20260628T120000
DTSTAMP:20260425T114044
CREATED:20240302T010621Z
LAST-MODIFIED:20240302T010621Z
UID:14272-1782644400-1782648000@ebcwindsor.com
SUMMARY:Monthly Prayer Meeting
DESCRIPTION:Our monthly prayer meeting gives a regular opportunity for men to pray with men\, and women to pray with women\, to bring our individual and corporate concerns before the Lord. (Our nursery and children’s Sunday School ministries continue during this scheduled time for prayer.)
URL:https://ebcwindsor.com/event/monthly-prayer-meeting-2/2026-06-28/
LOCATION:Emmanuel Baptist Church\, 5445 Walker Road\, Oldcastle\, Ontario\, N0R1L0\, Canada
CATEGORIES:Regular Events
END:VEVENT
BEGIN:VEVENT
DTSTART;TZID=America/Detroit:20260628T093000
DTEND;TZID=America/Detroit:20260628T110000
DTSTAMP:20260425T114044
CREATED:20221006T200222Z
LAST-MODIFIED:20221006T200222Z
UID:14281-1782639000-1782644400@ebcwindsor.com
SUMMARY:Morning Worship Service
DESCRIPTION:We enjoy the Lord’s Table (Communion) together on every first Sunday of the month. Junior Church ministry is offered to children aged 3 through 7. Nursery ministry is available for children aged 0 through 2. See “How We Worship” for more details regarding what our worship services look like.
URL:https://ebcwindsor.com/event/morning-worship-service/2026-06-28/
LOCATION:Emmanuel Baptist Church\, 5445 Walker Road\, Oldcastle\, Ontario\, N0R1L0\, Canada
CATEGORIES:Regular Events
END:VEVENT
BEGIN:VEVENT
DTSTART;TZID=America/Detroit:20260621T130000
DTEND;TZID=America/Detroit:20260621T143000
DTSTAMP:20260425T114044
CREATED:20221007T151633Z
LAST-MODIFIED:20221007T151633Z
UID:15620-1782046800-1782052200@ebcwindsor.com
SUMMARY:Afternoon Worship Service
DESCRIPTION:Afternoon Worship Service. \nThis worship service follows our Lunch Fellowship on the first and third Sundays of each month.
URL:https://ebcwindsor.com/event/evening-worship-service-2/2026-06-21/
LOCATION:Emmanuel Baptist Church\, 5445 Walker Road\, Oldcastle\, Ontario\, N0R1L0\, Canada
CATEGORIES:Regular Events
END:VEVENT
BEGIN:VEVENT
DTSTART;TZID=America/Detroit:20260621T120000
DTEND;TZID=America/Detroit:20260621T130000
DTSTAMP:20260425T114044
CREATED:20240217T121637Z
LAST-MODIFIED:20240217T121637Z
UID:15511-1782043200-1782046800@ebcwindsor.com
SUMMARY:Lunch Fellowship
DESCRIPTION:Bring-Your-Own-Lunch Fellowship \nWe’d love to get to know you between our Sunday School class and afternoon worship service on the first and third Sunday of each month.
URL:https://ebcwindsor.com/event/lunch-fellowship-2/2026-06-21/
LOCATION:Emmanuel Baptist Church\, 5445 Walker Road\, Oldcastle\, Ontario\, N0R1L0\, Canada
CATEGORIES:Regular Events
END:VEVENT
BEGIN:VEVENT
DTSTART;TZID=America/Detroit:20260621T110000
DTEND;TZID=America/Detroit:20260621T114500
DTSTAMP:20260425T114044
CREATED:20240302T010326Z
LAST-MODIFIED:20240302T010326Z
UID:14286-1782039600-1782042300@ebcwindsor.com
SUMMARY:Sunday School for All Ages
DESCRIPTION:We offer Sunday School ministry for all ages.
URL:https://ebcwindsor.com/event/sunday-school-for-all-ages-3/2026-06-21/
LOCATION:Emmanuel Baptist Church\, 5445 Walker Road\, Oldcastle\, Ontario\, N0R1L0\, Canada
CATEGORIES:Regular Events
END:VEVENT
BEGIN:VEVENT
DTSTART;TZID=America/Detroit:20260621T093000
DTEND;TZID=America/Detroit:20260621T110000
DTSTAMP:20260425T114044
CREATED:20221006T200222Z
LAST-MODIFIED:20221006T200222Z
UID:14280-1782034200-1782039600@ebcwindsor.com
SUMMARY:Morning Worship Service
DESCRIPTION:We enjoy the Lord’s Table (Communion) together on every first Sunday of the month. Junior Church ministry is offered to children aged 3 through 7. Nursery ministry is available for children aged 0 through 2. See “How We Worship” for more details regarding what our worship services look like.
URL:https://ebcwindsor.com/event/morning-worship-service/2026-06-21/
LOCATION:Emmanuel Baptist Church\, 5445 Walker Road\, Oldcastle\, Ontario\, N0R1L0\, Canada
CATEGORIES:Regular Events
END:VEVENT
BEGIN:VEVENT
DTSTART;TZID=America/Detroit:20260620T090000
DTEND;TZID=America/Detroit:20260620T103000
DTSTAMP:20260425T114044
CREATED:20241102T103634Z
LAST-MODIFIED:20241102T103634Z
UID:15857-1781946000-1781951400@ebcwindsor.com
SUMMARY:Women's Book Study
DESCRIPTION:The women of our church are invited to this monthly book study. Come and discuss the chapter at hand and grow further into Christ’s image as the truths of Scripture are understood and applied. See Holly for further details.
URL:https://ebcwindsor.com/event/womens-book-study-2/2026-06-20/
LOCATION:Ontario
END:VEVENT
BEGIN:VEVENT
DTSTART;TZID=America/Detroit:20260614T180000
DTEND;TZID=America/Detroit:20260614T193000
DTSTAMP:20260425T114044
CREATED:20221116T030155Z
LAST-MODIFIED:20221116T030155Z
UID:14289-1781460000-1781465400@ebcwindsor.com
SUMMARY:Evening Worship Service
DESCRIPTION:Evening Worship Service
URL:https://ebcwindsor.com/event/evening-worship-service-3/2026-06-14/
LOCATION:Emmanuel Baptist Church\, 5445 Walker Road\, Oldcastle\, Ontario\, N0R1L0\, Canada
CATEGORIES:Regular Events
END:VEVENT
BEGIN:VEVENT
DTSTART;TZID=America/Detroit:20260614T110000
DTEND;TZID=America/Detroit:20260614T114500
DTSTAMP:20260425T114044
CREATED:20240302T010326Z
LAST-MODIFIED:20240302T010326Z
UID:14285-1781434800-1781437500@ebcwindsor.com
SUMMARY:Sunday School for All Ages
DESCRIPTION:We offer Sunday School ministry for all ages.
URL:https://ebcwindsor.com/event/sunday-school-for-all-ages-3/2026-06-14/
LOCATION:Emmanuel Baptist Church\, 5445 Walker Road\, Oldcastle\, Ontario\, N0R1L0\, Canada
CATEGORIES:Regular Events
END:VEVENT
BEGIN:VEVENT
DTSTART;TZID=America/Detroit:20260614T093000
DTEND;TZID=America/Detroit:20260614T110000
DTSTAMP:20260425T114044
CREATED:20221006T200222Z
LAST-MODIFIED:20221006T200222Z
UID:14279-1781429400-1781434800@ebcwindsor.com
SUMMARY:Morning Worship Service
DESCRIPTION:We enjoy the Lord’s Table (Communion) together on every first Sunday of the month. Junior Church ministry is offered to children aged 3 through 7. Nursery ministry is available for children aged 0 through 2. See “How We Worship” for more details regarding what our worship services look like.
URL:https://ebcwindsor.com/event/morning-worship-service/2026-06-14/
LOCATION:Emmanuel Baptist Church\, 5445 Walker Road\, Oldcastle\, Ontario\, N0R1L0\, Canada
CATEGORIES:Regular Events
END:VEVENT
BEGIN:VEVENT
DTSTART;TZID=America/Detroit:20260607T130000
DTEND;TZID=America/Detroit:20260607T143000
DTSTAMP:20260425T114044
CREATED:20221007T151633Z
LAST-MODIFIED:20221007T151633Z
UID:15619-1780837200-1780842600@ebcwindsor.com
SUMMARY:Afternoon Worship Service
DESCRIPTION:Afternoon Worship Service. \nThis worship service follows our Lunch Fellowship on the first and third Sundays of each month.
URL:https://ebcwindsor.com/event/evening-worship-service-2/2026-06-07/
LOCATION:Emmanuel Baptist Church\, 5445 Walker Road\, Oldcastle\, Ontario\, N0R1L0\, Canada
CATEGORIES:Regular Events
END:VEVENT
BEGIN:VEVENT
DTSTART;TZID=America/Detroit:20260607T120000
DTEND;TZID=America/Detroit:20260607T130000
DTSTAMP:20260425T114044
CREATED:20240217T121637Z
LAST-MODIFIED:20240217T121637Z
UID:15510-1780833600-1780837200@ebcwindsor.com
SUMMARY:Lunch Fellowship
DESCRIPTION:Bring-Your-Own-Lunch Fellowship \nWe’d love to get to know you between our Sunday School class and afternoon worship service on the first and third Sunday of each month.
URL:https://ebcwindsor.com/event/lunch-fellowship-2/2026-06-07/
LOCATION:Emmanuel Baptist Church\, 5445 Walker Road\, Oldcastle\, Ontario\, N0R1L0\, Canada
CATEGORIES:Regular Events
END:VEVENT
BEGIN:VEVENT
DTSTART;TZID=America/Detroit:20260607T110000
DTEND;TZID=America/Detroit:20260607T114500
DTSTAMP:20260425T114044
CREATED:20240302T010326Z
LAST-MODIFIED:20240302T010326Z
UID:14284-1780830000-1780832700@ebcwindsor.com
SUMMARY:Sunday School for All Ages
DESCRIPTION:We offer Sunday School ministry for all ages.
URL:https://ebcwindsor.com/event/sunday-school-for-all-ages-3/2026-06-07/
LOCATION:Emmanuel Baptist Church\, 5445 Walker Road\, Oldcastle\, Ontario\, N0R1L0\, Canada
CATEGORIES:Regular Events
END:VEVENT
BEGIN:VEVENT
DTSTART;TZID=America/Detroit:20260607T093000
DTEND;TZID=America/Detroit:20260607T110000
DTSTAMP:20260425T114044
CREATED:20221006T200222Z
LAST-MODIFIED:20221006T200222Z
UID:14278-1780824600-1780830000@ebcwindsor.com
SUMMARY:Morning Worship Service
DESCRIPTION:We enjoy the Lord’s Table (Communion) together on every first Sunday of the month. Junior Church ministry is offered to children aged 3 through 7. Nursery ministry is available for children aged 0 through 2. See “How We Worship” for more details regarding what our worship services look like.
URL:https://ebcwindsor.com/event/morning-worship-service/2026-06-07/
LOCATION:Emmanuel Baptist Church\, 5445 Walker Road\, Oldcastle\, Ontario\, N0R1L0\, Canada
CATEGORIES:Regular Events
END:VEVENT
BEGIN:VEVENT
DTSTART;TZID=America/Detroit:20260606T080000
DTEND;TZID=America/Detroit:20260606T103000
DTSTAMP:20260425T114044
CREATED:20250622T190052Z
LAST-MODIFIED:20250831T102655Z
UID:15273-1780732800-1780741800@ebcwindsor.com
SUMMARY:Men's Breakfast
DESCRIPTION:Starting September 2025 the men of our church will gather once per month for breakfast to encourage one another in the Lord and study through Jerry Bridges’ book Respectable Sins. See Jeff Mitchell for further details. We’ll work through the chapters as follows: \n  \nSeptember 2025 \n1. Ordinary Saints \n2. The Disappearance of Sin \n3\, The Malignancy of Sin \nOctober 2025 \n4. The Remedy for Sin \n5. The Power of the Holy Spirit \n6. Directions for Dealing with Sins \nNovember 2025 \n7. Ungodliness \n10. Unthankfulness \nJanuary 2026 \n8. Anxiety and Frustration \n9. Discontentment \nFebruary 2026 \n11. Pride \n12. Selfishness \nMarch 7\, 2026 \n14. Impatience and Irritablility \n15. Anger \n16. Weeds of Anger \nApril 2026 \n17. Judgmentalism \n19. Sins of the Tongue \nMay 2026 \n13. Lack of Self-Control \n18. Envy\, Jealousy\, and Related Sins \nJune 6\, 2026 \n20. Worldliness \n21. Where do We Go From Here?
URL:https://ebcwindsor.com/event/mbrs/2026-06-06/
LOCATION:Ontario
CATEGORIES:Regular Events
END:VEVENT
BEGIN:VEVENT
DTSTART;TZID=America/Detroit:20260531T180000
DTEND;TZID=America/Detroit:20260531T193000
DTSTAMP:20260425T114044
CREATED:20221116T030155Z
LAST-MODIFIED:20221116T030155Z
UID:14288-1780250400-1780255800@ebcwindsor.com
SUMMARY:Evening Worship Service
DESCRIPTION:Evening Worship Service
URL:https://ebcwindsor.com/event/evening-worship-service-3/2026-05-31/
LOCATION:Emmanuel Baptist Church\, 5445 Walker Road\, Oldcastle\, Ontario\, N0R1L0\, Canada
CATEGORIES:Regular Events
END:VEVENT
BEGIN:VEVENT
DTSTART;TZID=America/Detroit:20260531T110000
DTEND;TZID=America/Detroit:20260531T120000
DTSTAMP:20260425T114044
CREATED:20240302T010621Z
LAST-MODIFIED:20240302T010621Z
UID:14271-1780225200-1780228800@ebcwindsor.com
SUMMARY:Monthly Prayer Meeting
DESCRIPTION:Our monthly prayer meeting gives a regular opportunity for men to pray with men\, and women to pray with women\, to bring our individual and corporate concerns before the Lord. (Our nursery and children’s Sunday School ministries continue during this scheduled time for prayer.)
URL:https://ebcwindsor.com/event/monthly-prayer-meeting-2/2026-05-31/
LOCATION:Emmanuel Baptist Church\, 5445 Walker Road\, Oldcastle\, Ontario\, N0R1L0\, Canada
CATEGORIES:Regular Events
END:VEVENT
BEGIN:VEVENT
DTSTART;TZID=America/Detroit:20260531T093000
DTEND;TZID=America/Detroit:20260531T110000
DTSTAMP:20260425T114044
CREATED:20221006T200222Z
LAST-MODIFIED:20221006T200222Z
UID:14277-1780219800-1780225200@ebcwindsor.com
SUMMARY:Morning Worship Service
DESCRIPTION:We enjoy the Lord’s Table (Communion) together on every first Sunday of the month. Junior Church ministry is offered to children aged 3 through 7. Nursery ministry is available for children aged 0 through 2. See “How We Worship” for more details regarding what our worship services look like.
URL:https://ebcwindsor.com/event/morning-worship-service/2026-05-31/
LOCATION:Emmanuel Baptist Church\, 5445 Walker Road\, Oldcastle\, Ontario\, N0R1L0\, Canada
CATEGORIES:Regular Events
END:VEVENT
BEGIN:VEVENT
DTSTART;TZID=America/Detroit:20260524T180000
DTEND;TZID=America/Detroit:20260524T193000
DTSTAMP:20260425T114044
CREATED:20221116T030155Z
LAST-MODIFIED:20221116T030155Z
UID:14287-1779645600-1779651000@ebcwindsor.com
SUMMARY:Evening Worship Service
DESCRIPTION:Evening Worship Service
URL:https://ebcwindsor.com/event/evening-worship-service-3/2026-05-24/
LOCATION:Emmanuel Baptist Church\, 5445 Walker Road\, Oldcastle\, Ontario\, N0R1L0\, Canada
CATEGORIES:Regular Events
END:VEVENT
BEGIN:VEVENT
DTSTART;TZID=America/Detroit:20260524T110000
DTEND;TZID=America/Detroit:20260524T114500
DTSTAMP:20260425T114044
CREATED:20240302T010326Z
LAST-MODIFIED:20240302T010326Z
UID:14283-1779620400-1779623100@ebcwindsor.com
SUMMARY:Sunday School for All Ages
DESCRIPTION:We offer Sunday School ministry for all ages.
URL:https://ebcwindsor.com/event/sunday-school-for-all-ages-3/2026-05-24/
LOCATION:Emmanuel Baptist Church\, 5445 Walker Road\, Oldcastle\, Ontario\, N0R1L0\, Canada
CATEGORIES:Regular Events
END:VEVENT
BEGIN:VEVENT
DTSTART;TZID=America/Detroit:20260524T093000
DTEND;TZID=America/Detroit:20260524T110000
DTSTAMP:20260425T114044
CREATED:20221006T200222Z
LAST-MODIFIED:20221006T200222Z
UID:14276-1779615000-1779620400@ebcwindsor.com
SUMMARY:Morning Worship Service
DESCRIPTION:We enjoy the Lord’s Table (Communion) together on every first Sunday of the month. Junior Church ministry is offered to children aged 3 through 7. Nursery ministry is available for children aged 0 through 2. See “How We Worship” for more details regarding what our worship services look like.
URL:https://ebcwindsor.com/event/morning-worship-service/2026-05-24/
LOCATION:Emmanuel Baptist Church\, 5445 Walker Road\, Oldcastle\, Ontario\, N0R1L0\, Canada
CATEGORIES:Regular Events
END:VEVENT
BEGIN:VEVENT
DTSTART;TZID=America/Detroit:20260517T130000
DTEND;TZID=America/Detroit:20260517T143000
DTSTAMP:20260425T114044
CREATED:20221007T151633Z
LAST-MODIFIED:20221007T151633Z
UID:15618-1779022800-1779028200@ebcwindsor.com
SUMMARY:Afternoon Worship Service
DESCRIPTION:Afternoon Worship Service. \nThis worship service follows our Lunch Fellowship on the first and third Sundays of each month.
URL:https://ebcwindsor.com/event/evening-worship-service-2/2026-05-17/
LOCATION:Emmanuel Baptist Church\, 5445 Walker Road\, Oldcastle\, Ontario\, N0R1L0\, Canada
CATEGORIES:Regular Events
END:VEVENT
BEGIN:VEVENT
DTSTART;TZID=America/Detroit:20260517T120000
DTEND;TZID=America/Detroit:20260517T130000
DTSTAMP:20260425T114044
CREATED:20240217T121637Z
LAST-MODIFIED:20240217T121637Z
UID:15509-1779019200-1779022800@ebcwindsor.com
SUMMARY:Lunch Fellowship
DESCRIPTION:Bring-Your-Own-Lunch Fellowship \nWe’d love to get to know you between our Sunday School class and afternoon worship service on the first and third Sunday of each month.
URL:https://ebcwindsor.com/event/lunch-fellowship-2/2026-05-17/
LOCATION:Emmanuel Baptist Church\, 5445 Walker Road\, Oldcastle\, Ontario\, N0R1L0\, Canada
CATEGORIES:Regular Events
END:VEVENT
BEGIN:VEVENT
DTSTART;TZID=America/Detroit:20260517T110000
DTEND;TZID=America/Detroit:20260517T114500
DTSTAMP:20260425T114044
CREATED:20240302T010326Z
LAST-MODIFIED:20240302T010326Z
UID:14282-1779015600-1779018300@ebcwindsor.com
SUMMARY:Sunday School for All Ages
DESCRIPTION:We offer Sunday School ministry for all ages.
URL:https://ebcwindsor.com/event/sunday-school-for-all-ages-3/2026-05-17/
LOCATION:Emmanuel Baptist Church\, 5445 Walker Road\, Oldcastle\, Ontario\, N0R1L0\, Canada
CATEGORIES:Regular Events
END:VEVENT
BEGIN:VEVENT
DTSTART;TZID=America/Detroit:20260517T093000
DTEND;TZID=America/Detroit:20260517T110000
DTSTAMP:20260425T114044
CREATED:20221006T200222Z
LAST-MODIFIED:20221006T200222Z
UID:14275-1779010200-1779015600@ebcwindsor.com
SUMMARY:Morning Worship Service
DESCRIPTION:We enjoy the Lord’s Table (Communion) together on every first Sunday of the month. Junior Church ministry is offered to children aged 3 through 7. Nursery ministry is available for children aged 0 through 2. See “How We Worship” for more details regarding what our worship services look like.
URL:https://ebcwindsor.com/event/morning-worship-service/2026-05-17/
LOCATION:Emmanuel Baptist Church\, 5445 Walker Road\, Oldcastle\, Ontario\, N0R1L0\, Canada
CATEGORIES:Regular Events
END:VEVENT
BEGIN:VEVENT
DTSTART;TZID=America/Detroit:20260516T090000
DTEND;TZID=America/Detroit:20260516T103000
DTSTAMP:20260425T114044
CREATED:20241102T103634Z
LAST-MODIFIED:20241102T103634Z
UID:15856-1778922000-1778927400@ebcwindsor.com
SUMMARY:Women's Book Study
DESCRIPTION:The women of our church are invited to this monthly book study. Come and discuss the chapter at hand and grow further into Christ’s image as the truths of Scripture are understood and applied. See Holly for further details.
URL:https://ebcwindsor.com/event/womens-book-study-2/2026-05-16/
LOCATION:Ontario
END:VEVENT
BEGIN:VEVENT
DTSTART;TZID=America/Detroit:20260510T180000
DTEND;TZID=America/Detroit:20260510T193000
DTSTAMP:20260425T114044
CREATED:20221116T030155Z
LAST-MODIFIED:20221116T030155Z
UID:14141-1778436000-1778441400@ebcwindsor.com
SUMMARY:Evening Worship Service
DESCRIPTION:Evening Worship Service
URL:https://ebcwindsor.com/event/evening-worship-service-3/2026-05-10/
LOCATION:Emmanuel Baptist Church\, 5445 Walker Road\, Oldcastle\, Ontario\, N0R1L0\, Canada
CATEGORIES:Regular Events
END:VEVENT
BEGIN:VEVENT
DTSTART;TZID=America/Detroit:20260510T110000
DTEND;TZID=America/Detroit:20260510T114500
DTSTAMP:20260425T114044
CREATED:20240302T010326Z
LAST-MODIFIED:20240302T010326Z
UID:14140-1778410800-1778413500@ebcwindsor.com
SUMMARY:Sunday School for All Ages
DESCRIPTION:We offer Sunday School ministry for all ages.
URL:https://ebcwindsor.com/event/sunday-school-for-all-ages-3/2026-05-10/
LOCATION:Emmanuel Baptist Church\, 5445 Walker Road\, Oldcastle\, Ontario\, N0R1L0\, Canada
CATEGORIES:Regular Events
END:VEVENT
BEGIN:VEVENT
DTSTART;TZID=America/Detroit:20260510T093000
DTEND;TZID=America/Detroit:20260510T110000
DTSTAMP:20260425T114044
CREATED:20221006T200222Z
LAST-MODIFIED:20221006T200222Z
UID:14139-1778405400-1778410800@ebcwindsor.com
SUMMARY:Morning Worship Service
DESCRIPTION:We enjoy the Lord’s Table (Communion) together on every first Sunday of the month. Junior Church ministry is offered to children aged 3 through 7. Nursery ministry is available for children aged 0 through 2. See “How We Worship” for more details regarding what our worship services look like.
URL:https://ebcwindsor.com/event/morning-worship-service/2026-05-10/
LOCATION:Emmanuel Baptist Church\, 5445 Walker Road\, Oldcastle\, Ontario\, N0R1L0\, Canada
CATEGORIES:Regular Events
END:VEVENT
END:VCALENDAR