BEGIN:VCALENDAR
VERSION:2.0
PRODID:-//Emmanuel Baptist Church - ECPv6.15.20//NONSGML v1.0//EN
CALSCALE:GREGORIAN
METHOD:PUBLISH
X-WR-CALNAME:Emmanuel Baptist Church
X-ORIGINAL-URL:https://ebcwindsor.com
X-WR-CALDESC:Events for Emmanuel Baptist Church
REFRESH-INTERVAL;VALUE=DURATION:PT1H
X-Robots-Tag:noindex
X-PUBLISHED-TTL:PT1H
BEGIN:VTIMEZONE
TZID:America/Detroit
BEGIN:DAYLIGHT
TZOFFSETFROM:-0500
TZOFFSETTO:-0400
TZNAME:EDT
DTSTART:20240310T070000
END:DAYLIGHT
BEGIN:STANDARD
TZOFFSETFROM:-0400
TZOFFSETTO:-0500
TZNAME:EST
DTSTART:20241103T060000
END:STANDARD
BEGIN:DAYLIGHT
TZOFFSETFROM:-0500
TZOFFSETTO:-0400
TZNAME:EDT
DTSTART:20250309T070000
END:DAYLIGHT
BEGIN:STANDARD
TZOFFSETFROM:-0400
TZOFFSETTO:-0500
TZNAME:EST
DTSTART:20251102T060000
END:STANDARD
BEGIN:DAYLIGHT
TZOFFSETFROM:-0500
TZOFFSETTO:-0400
TZNAME:EDT
DTSTART:20260308T070000
END:DAYLIGHT
BEGIN:STANDARD
TZOFFSETFROM:-0400
TZOFFSETTO:-0500
TZNAME:EST
DTSTART:20261101T060000
END:STANDARD
END:VTIMEZONE
BEGIN:VEVENT
DTSTART;TZID=America/Detroit:20251224T180000
DTEND;TZID=America/Detroit:20251224T190000
DTSTAMP:20260425T122659
CREATED:20251011T163333Z
LAST-MODIFIED:20251011T163333Z
UID:15703-1766599200-1766602800@ebcwindsor.com
SUMMARY:Christmas Eve Worship Service
DESCRIPTION:Join us as we celebrate the birth of our Lord Jesus on the night before Christmas!
URL:https://ebcwindsor.com/event/christmas-eve-worship-service-4/
LOCATION:Emmanuel Baptist Church\, 5445 Walker Road\, Oldcastle\, Ontario\, N0R1L0\, Canada
CATEGORIES:Occasional Events
END:VEVENT
BEGIN:VEVENT
DTSTART;TZID=America/Detroit:20251221T130000
DTEND;TZID=America/Detroit:20251221T143000
DTSTAMP:20260425T122659
CREATED:20221007T151633Z
LAST-MODIFIED:20221007T151633Z
UID:15608-1766322000-1766327400@ebcwindsor.com
SUMMARY:Afternoon Worship Service
DESCRIPTION:Afternoon Worship Service. \nThis worship service follows our Lunch Fellowship on the first and third Sundays of each month.
URL:https://ebcwindsor.com/event/evening-worship-service-2/2025-12-21/
LOCATION:Emmanuel Baptist Church\, 5445 Walker Road\, Oldcastle\, Ontario\, N0R1L0\, Canada
CATEGORIES:Regular Events
END:VEVENT
BEGIN:VEVENT
DTSTART;TZID=America/Detroit:20251221T120000
DTEND;TZID=America/Detroit:20251221T130000
DTSTAMP:20260425T122659
CREATED:20240217T121637Z
LAST-MODIFIED:20240217T121637Z
UID:15499-1766318400-1766322000@ebcwindsor.com
SUMMARY:Lunch Fellowship
DESCRIPTION:Bring-Your-Own-Lunch Fellowship \nWe’d love to get to know you between our Sunday School class and afternoon worship service on the first and third Sunday of each month.
URL:https://ebcwindsor.com/event/lunch-fellowship-2/2025-12-21/
LOCATION:Emmanuel Baptist Church\, 5445 Walker Road\, Oldcastle\, Ontario\, N0R1L0\, Canada
CATEGORIES:Regular Events
END:VEVENT
BEGIN:VEVENT
DTSTART;TZID=America/Detroit:20251221T110000
DTEND;TZID=America/Detroit:20251221T114500
DTSTAMP:20260425T122659
CREATED:20240302T010326Z
LAST-MODIFIED:20240302T010326Z
UID:13756-1766314800-1766317500@ebcwindsor.com
SUMMARY:Sunday School for All Ages
DESCRIPTION:We offer Sunday School ministry for all ages.
URL:https://ebcwindsor.com/event/sunday-school-for-all-ages-3/2025-12-21/
LOCATION:Emmanuel Baptist Church\, 5445 Walker Road\, Oldcastle\, Ontario\, N0R1L0\, Canada
CATEGORIES:Regular Events
END:VEVENT
BEGIN:VEVENT
DTSTART;TZID=America/Detroit:20251221T093000
DTEND;TZID=America/Detroit:20251221T110000
DTSTAMP:20260425T122659
CREATED:20221006T200222Z
LAST-MODIFIED:20221006T200222Z
UID:13420-1766309400-1766314800@ebcwindsor.com
SUMMARY:Morning Worship Service
DESCRIPTION:We enjoy the Lord’s Table (Communion) together on every first Sunday of the month. Junior Church ministry is offered to children aged 3 through 7. Nursery ministry is available for children aged 0 through 2. See “How We Worship” for more details regarding what our worship services look like.
URL:https://ebcwindsor.com/event/morning-worship-service/2025-12-21/
LOCATION:Emmanuel Baptist Church\, 5445 Walker Road\, Oldcastle\, Ontario\, N0R1L0\, Canada
CATEGORIES:Regular Events
END:VEVENT
BEGIN:VEVENT
DTSTART;TZID=America/Detroit:20251220T143000
DTEND;TZID=America/Detroit:20251220T170000
DTSTAMP:20260425T122659
CREATED:20251022T010517Z
LAST-MODIFIED:20251213T010834Z
UID:15739-1766241000-1766250000@ebcwindsor.com
SUMMARY:Kids' Christmas Party
DESCRIPTION:The kids of our church are invited to fellowship with one another in celebration of the Christmas season and all Jesus came into the world to accomplish. Details will be supplied as plans are finalized.
URL:https://ebcwindsor.com/event/kids-christmas-party/
LOCATION:Emmanuel Baptist Church\, 5445 Walker Road\, Oldcastle\, Ontario\, N0R1L0\, Canada
CATEGORIES:Occasional Events
END:VEVENT
BEGIN:VEVENT
DTSTART;TZID=America/Detroit:20251217T190000
DTEND;TZID=America/Detroit:20251217T201500
DTSTAMP:20260425T122659
CREATED:20240302T011938Z
LAST-MODIFIED:20251011T163148Z
UID:15694-1765998000-1766002500@ebcwindsor.com
SUMMARY:Wednesday Night Prayer Meeting
DESCRIPTION:Join the adults for a short devotional and extended time of prayer with and for one another. Our midweek ministry also includes a Youth Bible study and Wise Crackers\, a time of instruction for those aged 3 through 7.
URL:https://ebcwindsor.com/event/wednesday-night-prayer-meeting-3/2025-12-17/
LOCATION:Emmanuel Baptist Church\, 5445 Walker Road\, Oldcastle\, Ontario\, N0R1L0\, Canada
CATEGORIES:Occasional Events
END:VEVENT
BEGIN:VEVENT
DTSTART;TZID=America/Detroit:20251214T180000
DTEND;TZID=America/Detroit:20251214T201500
DTSTAMP:20260425T122659
CREATED:20251022T005858Z
LAST-MODIFIED:20251022T005858Z
UID:15735-1765735200-1765743300@ebcwindsor.com
SUMMARY:"A Thrill of Hope" Christmas Music Worship Service
DESCRIPTION:Join us as we recount the hope-giving birth of our Saviour. Our choir will present A Thrill of Hope: A Christmas Musical. A time of fellowship over some light snacks will follow the musical as we seek to encourage one another to follow the Lord Jesus Christ.
URL:https://ebcwindsor.com/event/thrill-2/
LOCATION:Emmanuel Baptist Church\, 5445 Walker Road\, Oldcastle\, Ontario\, N0R1L0\, Canada
CATEGORIES:Occasional Events
END:VEVENT
BEGIN:VEVENT
DTSTART;TZID=America/Detroit:20251214T110000
DTEND;TZID=America/Detroit:20251214T114500
DTSTAMP:20260425T122659
CREATED:20240302T010326Z
LAST-MODIFIED:20240302T010326Z
UID:13755-1765710000-1765712700@ebcwindsor.com
SUMMARY:Sunday School for All Ages
DESCRIPTION:We offer Sunday School ministry for all ages.
URL:https://ebcwindsor.com/event/sunday-school-for-all-ages-3/2025-12-14/
LOCATION:Emmanuel Baptist Church\, 5445 Walker Road\, Oldcastle\, Ontario\, N0R1L0\, Canada
CATEGORIES:Regular Events
END:VEVENT
BEGIN:VEVENT
DTSTART;TZID=America/Detroit:20251214T093000
DTEND;TZID=America/Detroit:20251214T110000
DTSTAMP:20260425T122659
CREATED:20221006T200222Z
LAST-MODIFIED:20221006T200222Z
UID:13411-1765704600-1765710000@ebcwindsor.com
SUMMARY:Morning Worship Service
DESCRIPTION:We enjoy the Lord’s Table (Communion) together on every first Sunday of the month. Junior Church ministry is offered to children aged 3 through 7. Nursery ministry is available for children aged 0 through 2. See “How We Worship” for more details regarding what our worship services look like.
URL:https://ebcwindsor.com/event/morning-worship-service/2025-12-14/
LOCATION:Emmanuel Baptist Church\, 5445 Walker Road\, Oldcastle\, Ontario\, N0R1L0\, Canada
CATEGORIES:Regular Events
END:VEVENT
BEGIN:VEVENT
DTSTART;TZID=America/Detroit:20251213T190000
DTEND;TZID=America/Detroit:20251213T201500
DTSTAMP:20260425T122659
CREATED:20251022T005714Z
LAST-MODIFIED:20251022T005714Z
UID:15733-1765652400-1765656900@ebcwindsor.com
SUMMARY:"A Thrill of Hope" Christmas Music Worship Service
DESCRIPTION:Join us as we recount the hope-giving birth of our Saviour. Our choir will present A Thrill of Hope: A Christmas Musical.
URL:https://ebcwindsor.com/event/thrill/
LOCATION:Emmanuel Baptist Church\, 5445 Walker Road\, Oldcastle\, Ontario\, N0R1L0\, Canada
CATEGORIES:Occasional Events
END:VEVENT
BEGIN:VEVENT
DTSTART;TZID=America/Detroit:20251210T183000
DTEND;TZID=America/Detroit:20251210T210000
DTSTAMP:20260425T122659
CREATED:20251011T162832Z
LAST-MODIFIED:20251011T162832Z
UID:15695-1765391400-1765400400@ebcwindsor.com
SUMMARY:Christmas Carolling
DESCRIPTION:Come be an encouragement to those we don’t often see as we sing and fellowship together. Please sign up at our bulletin board to help us plan the evening. Groups will meet at their first stop at 6:30 PM. See Pastor Richard for further details.
URL:https://ebcwindsor.com/event/christmas-carolling-4/
LOCATION:Emmanuel Baptist Church\, 5445 Walker Road\, Oldcastle\, Ontario\, N0R1L0\, Canada
CATEGORIES:Occasional Events
END:VEVENT
BEGIN:VEVENT
DTSTART;TZID=America/Detroit:20251207T130000
DTEND;TZID=America/Detroit:20251207T143000
DTSTAMP:20260425T122659
CREATED:20221007T151633Z
LAST-MODIFIED:20221007T151633Z
UID:15607-1765112400-1765117800@ebcwindsor.com
SUMMARY:Afternoon Worship Service
DESCRIPTION:Afternoon Worship Service. \nThis worship service follows our Lunch Fellowship on the first and third Sundays of each month.
URL:https://ebcwindsor.com/event/evening-worship-service-2/2025-12-07/
LOCATION:Emmanuel Baptist Church\, 5445 Walker Road\, Oldcastle\, Ontario\, N0R1L0\, Canada
CATEGORIES:Regular Events
END:VEVENT
BEGIN:VEVENT
DTSTART;TZID=America/Detroit:20251207T120000
DTEND;TZID=America/Detroit:20251207T130000
DTSTAMP:20260425T122659
CREATED:20240217T121637Z
LAST-MODIFIED:20240217T121637Z
UID:15498-1765108800-1765112400@ebcwindsor.com
SUMMARY:Lunch Fellowship
DESCRIPTION:Bring-Your-Own-Lunch Fellowship \nWe’d love to get to know you between our Sunday School class and afternoon worship service on the first and third Sunday of each month.
URL:https://ebcwindsor.com/event/lunch-fellowship-2/2025-12-07/
LOCATION:Emmanuel Baptist Church\, 5445 Walker Road\, Oldcastle\, Ontario\, N0R1L0\, Canada
CATEGORIES:Regular Events
END:VEVENT
BEGIN:VEVENT
DTSTART;TZID=America/Detroit:20251207T110000
DTEND;TZID=America/Detroit:20251207T114500
DTSTAMP:20260425T122659
CREATED:20240302T010326Z
LAST-MODIFIED:20240302T010326Z
UID:13754-1765105200-1765107900@ebcwindsor.com
SUMMARY:Sunday School for All Ages
DESCRIPTION:We offer Sunday School ministry for all ages.
URL:https://ebcwindsor.com/event/sunday-school-for-all-ages-3/2025-12-07/
LOCATION:Emmanuel Baptist Church\, 5445 Walker Road\, Oldcastle\, Ontario\, N0R1L0\, Canada
CATEGORIES:Regular Events
END:VEVENT
BEGIN:VEVENT
DTSTART;TZID=America/Detroit:20251207T093000
DTEND;TZID=America/Detroit:20251207T110000
DTSTAMP:20260425T122659
CREATED:20221006T200222Z
LAST-MODIFIED:20221006T200222Z
UID:13399-1765099800-1765105200@ebcwindsor.com
SUMMARY:Morning Worship Service
DESCRIPTION:We enjoy the Lord’s Table (Communion) together on every first Sunday of the month. Junior Church ministry is offered to children aged 3 through 7. Nursery ministry is available for children aged 0 through 2. See “How We Worship” for more details regarding what our worship services look like.
URL:https://ebcwindsor.com/event/morning-worship-service/2025-12-07/
LOCATION:Emmanuel Baptist Church\, 5445 Walker Road\, Oldcastle\, Ontario\, N0R1L0\, Canada
CATEGORIES:Regular Events
END:VEVENT
BEGIN:VEVENT
DTSTART;TZID=America/Detroit:20251205T180000
DTEND;TZID=America/Detroit:20251205T213000
DTSTAMP:20260425T122659
CREATED:20251022T010230Z
LAST-MODIFIED:20251022T010230Z
UID:15737-1764957600-1764970200@ebcwindsor.com
SUMMARY:Adult Christmas Banquet
DESCRIPTION:We’re looking forward to spending time together as we fellowship over a catered meal\, rejoicing over the kindness of God in the giving of His Son in the lead up to Christmas. Details will be supplied as plans are finalized.
URL:https://ebcwindsor.com/event/adult-christmas-banquet-4/
LOCATION:Emmanuel Baptist Church\, 5445 Walker Road\, Oldcastle\, Ontario\, N0R1L0\, Canada
CATEGORIES:Occasional Events
END:VEVENT
BEGIN:VEVENT
DTSTART;TZID=America/Detroit:20251203T190000
DTEND;TZID=America/Detroit:20251203T201500
DTSTAMP:20260425T122659
CREATED:20240302T011938Z
LAST-MODIFIED:20251011T163148Z
UID:15693-1764788400-1764792900@ebcwindsor.com
SUMMARY:Wednesday Night Prayer Meeting
DESCRIPTION:Join the adults for a short devotional and extended time of prayer with and for one another. Our midweek ministry also includes a Youth Bible study and Wise Crackers\, a time of instruction for those aged 3 through 7.
URL:https://ebcwindsor.com/event/wednesday-night-prayer-meeting-3/2025-12-03/
LOCATION:Emmanuel Baptist Church\, 5445 Walker Road\, Oldcastle\, Ontario\, N0R1L0\, Canada
CATEGORIES:Occasional Events
END:VEVENT
BEGIN:VEVENT
DTSTART;TZID=America/Detroit:20251130T180000
DTEND;TZID=America/Detroit:20251130T193000
DTSTAMP:20260425T122659
CREATED:20221116T030155Z
LAST-MODIFIED:20240303T212824Z
UID:13867-1764525600-1764531000@ebcwindsor.com
SUMMARY:Evening Worship Service
DESCRIPTION:Evening Worship Service
URL:https://ebcwindsor.com/event/evening-worship-service-3/2025-11-30/
LOCATION:Emmanuel Baptist Church\, 5445 Walker Road\, Oldcastle\, Ontario\, N0R1L0\, Canada
CATEGORIES:Regular Events
END:VEVENT
BEGIN:VEVENT
DTSTART;TZID=America/Detroit:20251130T110000
DTEND;TZID=America/Detroit:20251130T120000
DTSTAMP:20260425T122659
CREATED:20240302T010621Z
LAST-MODIFIED:20240302T010621Z
UID:13791-1764500400-1764504000@ebcwindsor.com
SUMMARY:Monthly Prayer Meeting
DESCRIPTION:Our monthly prayer meeting gives a regular opportunity for men to pray with men\, and women to pray with women\, to bring our individual and corporate concerns before the Lord. (Our nursery and children’s Sunday School ministries continue during this scheduled time for prayer.)
URL:https://ebcwindsor.com/event/monthly-prayer-meeting-2/2025-11-30/
LOCATION:Emmanuel Baptist Church\, 5445 Walker Road\, Oldcastle\, Ontario\, N0R1L0\, Canada
CATEGORIES:Regular Events
END:VEVENT
BEGIN:VEVENT
DTSTART;TZID=America/Detroit:20251130T093000
DTEND;TZID=America/Detroit:20251130T110000
DTSTAMP:20260425T122659
CREATED:20221006T200222Z
LAST-MODIFIED:20221006T200222Z
UID:13390-1764495000-1764500400@ebcwindsor.com
SUMMARY:Morning Worship Service
DESCRIPTION:We enjoy the Lord’s Table (Communion) together on every first Sunday of the month. Junior Church ministry is offered to children aged 3 through 7. Nursery ministry is available for children aged 0 through 2. See “How We Worship” for more details regarding what our worship services look like.
URL:https://ebcwindsor.com/event/morning-worship-service/2025-11-30/
LOCATION:Emmanuel Baptist Church\, 5445 Walker Road\, Oldcastle\, Ontario\, N0R1L0\, Canada
CATEGORIES:Regular Events
END:VEVENT
BEGIN:VEVENT
DTSTART;TZID=America/Detroit:20251126T190000
DTEND;TZID=America/Detroit:20251126T201500
DTSTAMP:20260425T122659
CREATED:20241215T185704Z
LAST-MODIFIED:20251011T162258Z
UID:15673-1764183600-1764188100@ebcwindsor.com
SUMMARY:Wednesday Night Bible Study
DESCRIPTION:Join the adults in a weekly Bible study through Crossway’s Haggai\, Zechariah\, and Malachi: A 12-Week Study (see here for details). Our midweek ministry also includes a Youth Bible study and Wise Crackers\, a time of instruction for those aged 3 through 7.
URL:https://ebcwindsor.com/event/wnbs-hzm/2025-11-26/
LOCATION:Emmanuel Baptist Church\, 5445 Walker Road\, Oldcastle\, Ontario\, N0R1L0\, Canada
CATEGORIES:Regular Events
END:VEVENT
BEGIN:VEVENT
DTSTART;TZID=America/Detroit:20251123T130000
DTEND;TZID=America/Detroit:20251123T143000
DTSTAMP:20260425T122659
CREATED:20251115T112030Z
LAST-MODIFIED:20251115T112030Z
UID:15781-1763902800-1763908200@ebcwindsor.com
SUMMARY:Afternoon Worship Service
DESCRIPTION:Afternoon Worship Service. \nThis worship service follows our Lunch Fellowship.
URL:https://ebcwindsor.com/event/afternoon-worship-service-2/
LOCATION:Emmanuel Baptist Church\, 5445 Walker Road\, Oldcastle\, Ontario\, N0R1L0\, Canada
CATEGORIES:Regular Events
END:VEVENT
BEGIN:VEVENT
DTSTART;TZID=America/Detroit:20251123T120000
DTEND;TZID=America/Detroit:20251123T130000
DTSTAMP:20260425T122659
CREATED:20251115T111907Z
LAST-MODIFIED:20251115T111907Z
UID:15778-1763899200-1763902800@ebcwindsor.com
SUMMARY:Lunch Fellowship
DESCRIPTION:Lunch Fellowship \nWe’d love to get to know you between our Sunday School class and afternoon worship service.
URL:https://ebcwindsor.com/event/lunch-fellowship-4/
LOCATION:Emmanuel Baptist Church\, 5445 Walker Road\, Oldcastle\, Ontario\, N0R1L0\, Canada
CATEGORIES:Regular Events
END:VEVENT
BEGIN:VEVENT
DTSTART;TZID=America/Detroit:20251123T110000
DTEND;TZID=America/Detroit:20251123T114500
DTSTAMP:20260425T122659
CREATED:20240302T010326Z
LAST-MODIFIED:20240302T010326Z
UID:13753-1763895600-1763898300@ebcwindsor.com
SUMMARY:Sunday School for All Ages
DESCRIPTION:We offer Sunday School ministry for all ages.
URL:https://ebcwindsor.com/event/sunday-school-for-all-ages-3/2025-11-23/
LOCATION:Emmanuel Baptist Church\, 5445 Walker Road\, Oldcastle\, Ontario\, N0R1L0\, Canada
CATEGORIES:Regular Events
END:VEVENT
BEGIN:VEVENT
DTSTART;TZID=America/Detroit:20251123T093000
DTEND;TZID=America/Detroit:20251123T110000
DTSTAMP:20260425T122659
CREATED:20221006T200222Z
LAST-MODIFIED:20221006T200222Z
UID:13379-1763890200-1763895600@ebcwindsor.com
SUMMARY:Morning Worship Service
DESCRIPTION:We enjoy the Lord’s Table (Communion) together on every first Sunday of the month. Junior Church ministry is offered to children aged 3 through 7. Nursery ministry is available for children aged 0 through 2. See “How We Worship” for more details regarding what our worship services look like.
URL:https://ebcwindsor.com/event/morning-worship-service/2025-11-23/
LOCATION:Emmanuel Baptist Church\, 5445 Walker Road\, Oldcastle\, Ontario\, N0R1L0\, Canada
CATEGORIES:Regular Events
END:VEVENT
BEGIN:VEVENT
DTSTART;TZID=America/Detroit:20251122T180000
DTEND;TZID=America/Detroit:20251122T203000
DTSTAMP:20260425T122659
CREATED:20251025T151403Z
LAST-MODIFIED:20251108T005840Z
UID:15745-1763834400-1763843400@ebcwindsor.com
SUMMARY:Men's Bake Off
DESCRIPTION:Join us for a time of fun and fellowship as the men of our church engage in friendly competition to bake the best cake. The Word of God will be opened up to encourage those present in their walk with Christ. \nBakers are asked to have their numbered cakes on display in the Fellowship Hall by 6 PM to allow for a timely start to the judging at 6:15 PM. See Tim Friesen for further details.
URL:https://ebcwindsor.com/event/mens-bake-off/
LOCATION:Emmanuel Baptist Church\, 5445 Walker Road\, Oldcastle\, Ontario\, N0R1L0\, Canada
CATEGORIES:Occasional Events
END:VEVENT
BEGIN:VEVENT
DTSTART;TZID=America/Detroit:20251119T190000
DTEND;TZID=America/Detroit:20251119T201500
DTSTAMP:20260425T122659
CREATED:20241215T185704Z
LAST-MODIFIED:20251011T162257Z
UID:15672-1763578800-1763583300@ebcwindsor.com
SUMMARY:Wednesday Night Bible Study
DESCRIPTION:Join the adults in a weekly Bible study through Crossway’s Haggai\, Zechariah\, and Malachi: A 12-Week Study (see here for details). Our midweek ministry also includes a Youth Bible study and Wise Crackers\, a time of instruction for those aged 3 through 7.
URL:https://ebcwindsor.com/event/wnbs-hzm/2025-11-19/
LOCATION:Emmanuel Baptist Church\, 5445 Walker Road\, Oldcastle\, Ontario\, N0R1L0\, Canada
CATEGORIES:Regular Events
END:VEVENT
BEGIN:VEVENT
DTSTART;TZID=America/Detroit:20251116T130000
DTEND;TZID=America/Detroit:20251116T143000
DTSTAMP:20260425T122659
CREATED:20221007T151633Z
LAST-MODIFIED:20221007T151633Z
UID:15606-1763298000-1763303400@ebcwindsor.com
SUMMARY:Afternoon Worship Service
DESCRIPTION:Afternoon Worship Service. \nThis worship service follows our Lunch Fellowship on the first and third Sundays of each month.
URL:https://ebcwindsor.com/event/evening-worship-service-2/2025-11-16/
LOCATION:Emmanuel Baptist Church\, 5445 Walker Road\, Oldcastle\, Ontario\, N0R1L0\, Canada
CATEGORIES:Regular Events
END:VEVENT
BEGIN:VEVENT
DTSTART;TZID=America/Detroit:20251116T120000
DTEND;TZID=America/Detroit:20251116T130000
DTSTAMP:20260425T122659
CREATED:20240217T121637Z
LAST-MODIFIED:20240217T121637Z
UID:15497-1763294400-1763298000@ebcwindsor.com
SUMMARY:Lunch Fellowship
DESCRIPTION:Bring-Your-Own-Lunch Fellowship \nWe’d love to get to know you between our Sunday School class and afternoon worship service on the first and third Sunday of each month.
URL:https://ebcwindsor.com/event/lunch-fellowship-2/2025-11-16/
LOCATION:Emmanuel Baptist Church\, 5445 Walker Road\, Oldcastle\, Ontario\, N0R1L0\, Canada
CATEGORIES:Regular Events
END:VEVENT
END:VCALENDAR