BEGIN:VCALENDAR
VERSION:2.0
PRODID:-//Emmanuel Baptist Church - ECPv6.15.20//NONSGML v1.0//EN
CALSCALE:GREGORIAN
METHOD:PUBLISH
X-WR-CALNAME:Emmanuel Baptist Church
X-ORIGINAL-URL:https://ebcwindsor.com
X-WR-CALDESC:Events for Emmanuel Baptist Church
REFRESH-INTERVAL;VALUE=DURATION:PT1H
X-Robots-Tag:noindex
X-PUBLISHED-TTL:PT1H
BEGIN:VTIMEZONE
TZID:America/Detroit
BEGIN:DAYLIGHT
TZOFFSETFROM:-0500
TZOFFSETTO:-0400
TZNAME:EDT
DTSTART:20250309T070000
END:DAYLIGHT
BEGIN:STANDARD
TZOFFSETFROM:-0400
TZOFFSETTO:-0500
TZNAME:EST
DTSTART:20251102T060000
END:STANDARD
BEGIN:DAYLIGHT
TZOFFSETFROM:-0500
TZOFFSETTO:-0400
TZNAME:EDT
DTSTART:20260308T070000
END:DAYLIGHT
BEGIN:STANDARD
TZOFFSETFROM:-0400
TZOFFSETTO:-0500
TZNAME:EST
DTSTART:20261101T060000
END:STANDARD
BEGIN:DAYLIGHT
TZOFFSETFROM:-0500
TZOFFSETTO:-0400
TZNAME:EDT
DTSTART:20270314T070000
END:DAYLIGHT
BEGIN:STANDARD
TZOFFSETFROM:-0400
TZOFFSETTO:-0500
TZNAME:EST
DTSTART:20271107T060000
END:STANDARD
END:VTIMEZONE
BEGIN:VEVENT
DTSTART;TZID=America/Detroit:20260125T180000
DTEND;TZID=America/Detroit:20260125T193000
DTSTAMP:20260425T103206
CREATED:20221116T030155Z
LAST-MODIFIED:20240303T212826Z
UID:13875-1769364000-1769369400@ebcwindsor.com
SUMMARY:Evening Worship Service
DESCRIPTION:Evening Worship Service
URL:https://ebcwindsor.com/event/evening-worship-service-3/2026-01-25/
LOCATION:Emmanuel Baptist Church\, 5445 Walker Road\, Oldcastle\, Ontario\, N0R1L0\, Canada
CATEGORIES:Regular Events
END:VEVENT
BEGIN:VEVENT
DTSTART;TZID=America/Detroit:20260128T190000
DTEND;TZID=America/Detroit:20260128T201500
DTSTAMP:20260425T103206
CREATED:20241215T185704Z
LAST-MODIFIED:20241215T185704Z
UID:15677-1769626800-1769631300@ebcwindsor.com
SUMMARY:Wednesday Night Bible Study
DESCRIPTION:Join the adults in a weekly Bible study through Crossway’s Haggai\, Zechariah\, and Malachi: A 12-Week Study (see here for details). Our midweek ministry also includes a Youth Bible study and Wise Crackers\, a time of instruction for those aged 3 through 7.
URL:https://ebcwindsor.com/event/wnbs-hzm/2026-01-28/
LOCATION:Emmanuel Baptist Church\, 5445 Walker Road\, Oldcastle\, Ontario\, N0R1L0\, Canada
CATEGORIES:Regular Events
END:VEVENT
BEGIN:VEVENT
DTSTART;TZID=America/Detroit:20260201T093000
DTEND;TZID=America/Detroit:20260201T110000
DTSTAMP:20260425T103206
CREATED:20221006T200222Z
LAST-MODIFIED:20221006T200222Z
UID:13650-1769938200-1769943600@ebcwindsor.com
SUMMARY:Morning Worship Service
DESCRIPTION:We enjoy the Lord’s Table (Communion) together on every first Sunday of the month. Junior Church ministry is offered to children aged 3 through 7. Nursery ministry is available for children aged 0 through 2. See “How We Worship” for more details regarding what our worship services look like.
URL:https://ebcwindsor.com/event/morning-worship-service/2026-02-01/
LOCATION:Emmanuel Baptist Church\, 5445 Walker Road\, Oldcastle\, Ontario\, N0R1L0\, Canada
CATEGORIES:Regular Events
END:VEVENT
BEGIN:VEVENT
DTSTART;TZID=America/Detroit:20260201T110000
DTEND;TZID=America/Detroit:20260201T114500
DTSTAMP:20260425T103206
CREATED:20240302T010326Z
LAST-MODIFIED:20240302T010326Z
UID:13760-1769943600-1769946300@ebcwindsor.com
SUMMARY:Sunday School for All Ages
DESCRIPTION:We offer Sunday School ministry for all ages.
URL:https://ebcwindsor.com/event/sunday-school-for-all-ages-3/2026-02-01/
LOCATION:Emmanuel Baptist Church\, 5445 Walker Road\, Oldcastle\, Ontario\, N0R1L0\, Canada
CATEGORIES:Regular Events
END:VEVENT
BEGIN:VEVENT
DTSTART;TZID=America/Detroit:20260201T120000
DTEND;TZID=America/Detroit:20260201T130000
DTSTAMP:20260425T103206
CREATED:20240217T121637Z
LAST-MODIFIED:20240217T121637Z
UID:15502-1769947200-1769950800@ebcwindsor.com
SUMMARY:Lunch Fellowship
DESCRIPTION:Bring-Your-Own-Lunch Fellowship \nWe’d love to get to know you between our Sunday School class and afternoon worship service on the first and third Sunday of each month.
URL:https://ebcwindsor.com/event/lunch-fellowship-2/2026-02-01/
LOCATION:Emmanuel Baptist Church\, 5445 Walker Road\, Oldcastle\, Ontario\, N0R1L0\, Canada
CATEGORIES:Regular Events
END:VEVENT
BEGIN:VEVENT
DTSTART;TZID=America/Detroit:20260201T130000
DTEND;TZID=America/Detroit:20260201T143000
DTSTAMP:20260425T103206
CREATED:20221007T151633Z
LAST-MODIFIED:20221007T151633Z
UID:15611-1769950800-1769956200@ebcwindsor.com
SUMMARY:Afternoon Worship Service
DESCRIPTION:Afternoon Worship Service. \nThis worship service follows our Lunch Fellowship on the first and third Sundays of each month.
URL:https://ebcwindsor.com/event/evening-worship-service-2/2026-02-01/
LOCATION:Emmanuel Baptist Church\, 5445 Walker Road\, Oldcastle\, Ontario\, N0R1L0\, Canada
CATEGORIES:Regular Events
END:VEVENT
BEGIN:VEVENT
DTSTART;TZID=America/Detroit:20260204T190000
DTEND;TZID=America/Detroit:20260204T210000
DTSTAMP:20260425T103206
CREATED:20260106T231605Z
LAST-MODIFIED:20260106T231605Z
UID:15884-1770231600-1770238800@ebcwindsor.com
SUMMARY:Annual Business Meeting
DESCRIPTION:
URL:https://ebcwindsor.com/event/annual-business-meeting-3/
LOCATION:Emmanuel Baptist Church\, 5445 Walker Road\, Oldcastle\, Ontario\, N0R1L0\, Canada
CATEGORIES:Occasional Events
END:VEVENT
BEGIN:VEVENT
DTSTART;TZID=America/Detroit:20260207T080000
DTEND;TZID=America/Detroit:20260207T103000
DTSTAMP:20260425T103206
CREATED:20250622T190052Z
LAST-MODIFIED:20250831T102654Z
UID:15269-1770451200-1770460200@ebcwindsor.com
SUMMARY:Men's Breakfast
DESCRIPTION:Starting September 2025 the men of our church will gather once per month for breakfast to encourage one another in the Lord and study through Jerry Bridges’ book Respectable Sins. See Jeff Mitchell for further details. We’ll work through the chapters as follows: \n  \nSeptember 2025 \n1. Ordinary Saints \n2. The Disappearance of Sin \n3\, The Malignancy of Sin \nOctober 2025 \n4. The Remedy for Sin \n5. The Power of the Holy Spirit \n6. Directions for Dealing with Sins \nNovember 2025 \n7. Ungodliness \n10. Unthankfulness \nJanuary 2026 \n8. Anxiety and Frustration \n9. Discontentment \nFebruary 2026 \n11. Pride \n12. Selfishness \nMarch 7\, 2026 \n14. Impatience and Irritablility \n15. Anger \n16. Weeds of Anger \nApril 2026 \n17. Judgmentalism \n19. Sins of the Tongue \nMay 2026 \n13. Lack of Self-Control \n18. Envy\, Jealousy\, and Related Sins \nJune 6\, 2026 \n20. Worldliness \n21. Where do We Go From Here?
URL:https://ebcwindsor.com/event/mbrs/2026-02-07/
LOCATION:Ontario
CATEGORIES:Regular Events
END:VEVENT
BEGIN:VEVENT
DTSTART;TZID=America/Detroit:20260208T093000
DTEND;TZID=America/Detroit:20260208T110000
DTSTAMP:20260425T103206
CREATED:20221006T200222Z
LAST-MODIFIED:20221006T200222Z
UID:13651-1770543000-1770548400@ebcwindsor.com
SUMMARY:Morning Worship Service
DESCRIPTION:We enjoy the Lord’s Table (Communion) together on every first Sunday of the month. Junior Church ministry is offered to children aged 3 through 7. Nursery ministry is available for children aged 0 through 2. See “How We Worship” for more details regarding what our worship services look like.
URL:https://ebcwindsor.com/event/morning-worship-service/2026-02-08/
LOCATION:Emmanuel Baptist Church\, 5445 Walker Road\, Oldcastle\, Ontario\, N0R1L0\, Canada
CATEGORIES:Regular Events
END:VEVENT
BEGIN:VEVENT
DTSTART;TZID=America/Detroit:20260208T110000
DTEND;TZID=America/Detroit:20260208T114500
DTSTAMP:20260425T103206
CREATED:20240302T010326Z
LAST-MODIFIED:20240302T010326Z
UID:13761-1770548400-1770551100@ebcwindsor.com
SUMMARY:Sunday School for All Ages
DESCRIPTION:We offer Sunday School ministry for all ages.
URL:https://ebcwindsor.com/event/sunday-school-for-all-ages-3/2026-02-08/
LOCATION:Emmanuel Baptist Church\, 5445 Walker Road\, Oldcastle\, Ontario\, N0R1L0\, Canada
CATEGORIES:Regular Events
END:VEVENT
BEGIN:VEVENT
DTSTART;TZID=America/Detroit:20260208T180000
DTEND;TZID=America/Detroit:20260208T193000
DTSTAMP:20260425T103206
CREATED:20221116T030155Z
LAST-MODIFIED:20240303T212826Z
UID:13877-1770573600-1770579000@ebcwindsor.com
SUMMARY:Evening Worship Service
DESCRIPTION:Evening Worship Service
URL:https://ebcwindsor.com/event/evening-worship-service-3/2026-02-08/
LOCATION:Emmanuel Baptist Church\, 5445 Walker Road\, Oldcastle\, Ontario\, N0R1L0\, Canada
CATEGORIES:Regular Events
END:VEVENT
BEGIN:VEVENT
DTSTART;TZID=America/Detroit:20260211T190000
DTEND;TZID=America/Detroit:20260211T201500
DTSTAMP:20260425T103206
CREATED:20241215T185704Z
LAST-MODIFIED:20260106T231717Z
UID:15678-1770836400-1770840900@ebcwindsor.com
SUMMARY:Wednesday Night Bible Study
DESCRIPTION:Join the adults in a weekly Bible study through Crossway’s Haggai\, Zechariah\, and Malachi: A 12-Week Study (see here for details). Our midweek ministry also includes a Youth Bible study and Wise Crackers\, a time of instruction for those aged 3 through 7.
URL:https://ebcwindsor.com/event/wnbs-hzm-2026-02-04/
LOCATION:Emmanuel Baptist Church\, 5445 Walker Road\, Oldcastle\, Ontario\, N0R1L0\, Canada
CATEGORIES:Regular Events
END:VEVENT
BEGIN:VEVENT
DTSTART;TZID=America/Detroit:20260213T190000
DTEND;TZID=America/Detroit:20260213T210000
DTSTAMP:20260425T103206
CREATED:20260112T095543Z
LAST-MODIFIED:20260112T095700Z
UID:15903-1771009200-1771016400@ebcwindsor.com
SUMMARY:Adult "Valentines" Fellowship Night
DESCRIPTION:You’re invited to join us for an adult fellowship as we come together to encourage one another in the Lord. We are planning to share some simple finger foods\, enjoy a few games\, and be ministered to as the Word of God is opened up to us in a devotional. A sign-up sheet is posted on the bulletin board to help us plan who will bring food items.
URL:https://ebcwindsor.com/event/adult-valentines-fellowship-night-2/
LOCATION:Emmanuel Baptist Church\, 5445 Walker Road\, Oldcastle\, Ontario\, N0R1L0\, Canada
CATEGORIES:Occasional Events
END:VEVENT
BEGIN:VEVENT
DTSTART;TZID=America/Detroit:20260215T093000
DTEND;TZID=America/Detroit:20260215T110000
DTSTAMP:20260425T103206
CREATED:20221006T200222Z
LAST-MODIFIED:20221006T200222Z
UID:13652-1771147800-1771153200@ebcwindsor.com
SUMMARY:Morning Worship Service
DESCRIPTION:We enjoy the Lord’s Table (Communion) together on every first Sunday of the month. Junior Church ministry is offered to children aged 3 through 7. Nursery ministry is available for children aged 0 through 2. See “How We Worship” for more details regarding what our worship services look like.
URL:https://ebcwindsor.com/event/morning-worship-service/2026-02-15/
LOCATION:Emmanuel Baptist Church\, 5445 Walker Road\, Oldcastle\, Ontario\, N0R1L0\, Canada
CATEGORIES:Regular Events
END:VEVENT
BEGIN:VEVENT
DTSTART;TZID=America/Detroit:20260215T110000
DTEND;TZID=America/Detroit:20260215T114500
DTSTAMP:20260425T103206
CREATED:20240302T010326Z
LAST-MODIFIED:20240302T010326Z
UID:13762-1771153200-1771155900@ebcwindsor.com
SUMMARY:Sunday School for All Ages
DESCRIPTION:We offer Sunday School ministry for all ages.
URL:https://ebcwindsor.com/event/sunday-school-for-all-ages-3/2026-02-15/
LOCATION:Emmanuel Baptist Church\, 5445 Walker Road\, Oldcastle\, Ontario\, N0R1L0\, Canada
CATEGORIES:Regular Events
END:VEVENT
BEGIN:VEVENT
DTSTART;TZID=America/Detroit:20260215T120000
DTEND;TZID=America/Detroit:20260215T130000
DTSTAMP:20260425T103206
CREATED:20240217T121637Z
LAST-MODIFIED:20240217T121637Z
UID:15503-1771156800-1771160400@ebcwindsor.com
SUMMARY:Lunch Fellowship
DESCRIPTION:Bring-Your-Own-Lunch Fellowship \nWe’d love to get to know you between our Sunday School class and afternoon worship service on the first and third Sunday of each month.
URL:https://ebcwindsor.com/event/lunch-fellowship-2/2026-02-15/
LOCATION:Emmanuel Baptist Church\, 5445 Walker Road\, Oldcastle\, Ontario\, N0R1L0\, Canada
CATEGORIES:Regular Events
END:VEVENT
BEGIN:VEVENT
DTSTART;TZID=America/Detroit:20260215T130000
DTEND;TZID=America/Detroit:20260215T143000
DTSTAMP:20260425T103206
CREATED:20221007T151633Z
LAST-MODIFIED:20221007T151633Z
UID:15612-1771160400-1771165800@ebcwindsor.com
SUMMARY:Afternoon Worship Service
DESCRIPTION:Afternoon Worship Service. \nThis worship service follows our Lunch Fellowship on the first and third Sundays of each month.
URL:https://ebcwindsor.com/event/evening-worship-service-2/2026-02-15/
LOCATION:Emmanuel Baptist Church\, 5445 Walker Road\, Oldcastle\, Ontario\, N0R1L0\, Canada
CATEGORIES:Regular Events
END:VEVENT
BEGIN:VEVENT
DTSTART;TZID=America/Detroit:20260218T190000
DTEND;TZID=America/Detroit:20260218T201500
DTSTAMP:20260425T103206
CREATED:20241215T185704Z
LAST-MODIFIED:20241215T185704Z
UID:15679-1771441200-1771445700@ebcwindsor.com
SUMMARY:Wednesday Night Bible Study
DESCRIPTION:Join the adults in a weekly Bible study through Crossway’s Haggai\, Zechariah\, and Malachi: A 12-Week Study (see here for details). Our midweek ministry also includes a Youth Bible study and Wise Crackers\, a time of instruction for those aged 3 through 7.
URL:https://ebcwindsor.com/event/wnbs-hzm/2026-02-18/
LOCATION:Emmanuel Baptist Church\, 5445 Walker Road\, Oldcastle\, Ontario\, N0R1L0\, Canada
CATEGORIES:Regular Events
END:VEVENT
BEGIN:VEVENT
DTSTART;TZID=America/Detroit:20260221T090000
DTEND;TZID=America/Detroit:20260221T103000
DTSTAMP:20260425T103206
CREATED:20241102T103634Z
LAST-MODIFIED:20241102T103634Z
UID:15853-1771664400-1771669800@ebcwindsor.com
SUMMARY:Women's Book Study
DESCRIPTION:The women of our church are invited to this monthly book study. Come and discuss the chapter at hand and grow further into Christ’s image as the truths of Scripture are understood and applied. See Holly for further details.
URL:https://ebcwindsor.com/event/womens-book-study-2/2026-02-21/
LOCATION:Ontario
END:VEVENT
BEGIN:VEVENT
DTSTART;TZID=America/Detroit:20260222T093000
DTEND;TZID=America/Detroit:20260222T110000
DTSTAMP:20260425T103206
CREATED:20221006T200222Z
LAST-MODIFIED:20221006T200222Z
UID:13663-1771752600-1771758000@ebcwindsor.com
SUMMARY:Morning Worship Service
DESCRIPTION:We enjoy the Lord’s Table (Communion) together on every first Sunday of the month. Junior Church ministry is offered to children aged 3 through 7. Nursery ministry is available for children aged 0 through 2. See “How We Worship” for more details regarding what our worship services look like.
URL:https://ebcwindsor.com/event/morning-worship-service/2026-02-22/
LOCATION:Emmanuel Baptist Church\, 5445 Walker Road\, Oldcastle\, Ontario\, N0R1L0\, Canada
CATEGORIES:Regular Events
END:VEVENT
BEGIN:VEVENT
DTSTART;TZID=America/Detroit:20260222T110000
DTEND;TZID=America/Detroit:20260222T120000
DTSTAMP:20260425T103206
CREATED:20240302T010621Z
LAST-MODIFIED:20240302T010621Z
UID:13794-1771758000-1771761600@ebcwindsor.com
SUMMARY:Monthly Prayer Meeting
DESCRIPTION:Our monthly prayer meeting gives a regular opportunity for men to pray with men\, and women to pray with women\, to bring our individual and corporate concerns before the Lord. (Our nursery and children’s Sunday School ministries continue during this scheduled time for prayer.)
URL:https://ebcwindsor.com/event/monthly-prayer-meeting-2/2026-02-22/
LOCATION:Emmanuel Baptist Church\, 5445 Walker Road\, Oldcastle\, Ontario\, N0R1L0\, Canada
CATEGORIES:Regular Events
END:VEVENT
BEGIN:VEVENT
DTSTART;TZID=America/Detroit:20260222T180000
DTEND;TZID=America/Detroit:20260222T193000
DTSTAMP:20260425T103206
CREATED:20221116T030155Z
LAST-MODIFIED:20240303T212826Z
UID:13879-1771783200-1771788600@ebcwindsor.com
SUMMARY:Evening Worship Service
DESCRIPTION:Evening Worship Service
URL:https://ebcwindsor.com/event/evening-worship-service-3/2026-02-22/
LOCATION:Emmanuel Baptist Church\, 5445 Walker Road\, Oldcastle\, Ontario\, N0R1L0\, Canada
CATEGORIES:Regular Events
END:VEVENT
BEGIN:VEVENT
DTSTART;TZID=America/Detroit:20260225T190000
DTEND;TZID=America/Detroit:20260225T201500
DTSTAMP:20260425T103206
CREATED:20241215T185704Z
LAST-MODIFIED:20241215T185704Z
UID:15680-1772046000-1772050500@ebcwindsor.com
SUMMARY:Wednesday Night Bible Study
DESCRIPTION:Join the adults in a weekly Bible study through Crossway’s Haggai\, Zechariah\, and Malachi: A 12-Week Study (see here for details). Our midweek ministry also includes a Youth Bible study and Wise Crackers\, a time of instruction for those aged 3 through 7.
URL:https://ebcwindsor.com/event/wnbs-hzm/2026-02-25/
LOCATION:Emmanuel Baptist Church\, 5445 Walker Road\, Oldcastle\, Ontario\, N0R1L0\, Canada
CATEGORIES:Regular Events
END:VEVENT
BEGIN:VEVENT
DTSTART;TZID=America/Detroit:20260301T093000
DTEND;TZID=America/Detroit:20260301T110000
DTSTAMP:20260425T103206
CREATED:20221006T200222Z
LAST-MODIFIED:20221006T200222Z
UID:13953-1772357400-1772362800@ebcwindsor.com
SUMMARY:Morning Worship Service
DESCRIPTION:We enjoy the Lord’s Table (Communion) together on every first Sunday of the month. Junior Church ministry is offered to children aged 3 through 7. Nursery ministry is available for children aged 0 through 2. See “How We Worship” for more details regarding what our worship services look like.
URL:https://ebcwindsor.com/event/morning-worship-service/2026-03-01/
LOCATION:Emmanuel Baptist Church\, 5445 Walker Road\, Oldcastle\, Ontario\, N0R1L0\, Canada
CATEGORIES:Regular Events
END:VEVENT
BEGIN:VEVENT
DTSTART;TZID=America/Detroit:20260301T110000
DTEND;TZID=America/Detroit:20260301T114500
DTSTAMP:20260425T103206
CREATED:20240302T010326Z
LAST-MODIFIED:20240302T010326Z
UID:13954-1772362800-1772365500@ebcwindsor.com
SUMMARY:Sunday School for All Ages
DESCRIPTION:We offer Sunday School ministry for all ages.
URL:https://ebcwindsor.com/event/sunday-school-for-all-ages-3/2026-03-01/
LOCATION:Emmanuel Baptist Church\, 5445 Walker Road\, Oldcastle\, Ontario\, N0R1L0\, Canada
CATEGORIES:Regular Events
END:VEVENT
BEGIN:VEVENT
DTSTART;TZID=America/Detroit:20260301T114500
DTEND;TZID=America/Detroit:20260301T124500
DTSTAMP:20260425T103206
CREATED:20260209T085450Z
LAST-MODIFIED:20260209T085450Z
UID:15939-1772365500-1772369100@ebcwindsor.com
SUMMARY:Chilli Lunch Fellowship
DESCRIPTION:You’re welcome to join us for a Chilli Lunch Fellowship. Please refer to the sign-up sheet on our bulletin board to see what you can bring as we plan to encourage one another and enjoy the good gifts God gives between our Sunday School hour and afternoon worship service. See Cheryl Weller for further details.
URL:https://ebcwindsor.com/event/chilli-lunch-fellowship/
LOCATION:Emmanuel Baptist Church\, 5445 Walker Road\, Oldcastle\, Ontario\, N0R1L0\, Canada
CATEGORIES:Occasional Events
END:VEVENT
BEGIN:VEVENT
DTSTART;TZID=America/Detroit:20260301T130000
DTEND;TZID=America/Detroit:20260301T143000
DTSTAMP:20260425T103206
CREATED:20221007T151633Z
LAST-MODIFIED:20221007T151633Z
UID:15613-1772370000-1772375400@ebcwindsor.com
SUMMARY:Afternoon Worship Service
DESCRIPTION:Afternoon Worship Service. \nThis worship service follows our Lunch Fellowship on the first and third Sundays of each month.
URL:https://ebcwindsor.com/event/evening-worship-service-2/2026-03-01/
LOCATION:Emmanuel Baptist Church\, 5445 Walker Road\, Oldcastle\, Ontario\, N0R1L0\, Canada
CATEGORIES:Regular Events
END:VEVENT
BEGIN:VEVENT
DTSTART;TZID=America/Detroit:20260304T190000
DTEND;TZID=America/Detroit:20260304T201500
DTSTAMP:20260425T103206
CREATED:20241215T185704Z
LAST-MODIFIED:20241215T185704Z
UID:15681-1772650800-1772655300@ebcwindsor.com
SUMMARY:Wednesday Night Bible Study
DESCRIPTION:Join the adults in a weekly Bible study through Crossway’s Haggai\, Zechariah\, and Malachi: A 12-Week Study (see here for details). Our midweek ministry also includes a Youth Bible study and Wise Crackers\, a time of instruction for those aged 3 through 7.
URL:https://ebcwindsor.com/event/wnbs-hzm/2026-03-04/
LOCATION:Emmanuel Baptist Church\, 5445 Walker Road\, Oldcastle\, Ontario\, N0R1L0\, Canada
CATEGORIES:Regular Events
END:VEVENT
BEGIN:VEVENT
DTSTART;TZID=America/Detroit:20260307T080000
DTEND;TZID=America/Detroit:20260307T103000
DTSTAMP:20260425T103206
CREATED:20250622T190052Z
LAST-MODIFIED:20250831T102654Z
UID:15270-1772870400-1772879400@ebcwindsor.com
SUMMARY:Men's Breakfast
DESCRIPTION:Starting September 2025 the men of our church will gather once per month for breakfast to encourage one another in the Lord and study through Jerry Bridges’ book Respectable Sins. See Jeff Mitchell for further details. We’ll work through the chapters as follows: \n  \nSeptember 2025 \n1. Ordinary Saints \n2. The Disappearance of Sin \n3\, The Malignancy of Sin \nOctober 2025 \n4. The Remedy for Sin \n5. The Power of the Holy Spirit \n6. Directions for Dealing with Sins \nNovember 2025 \n7. Ungodliness \n10. Unthankfulness \nJanuary 2026 \n8. Anxiety and Frustration \n9. Discontentment \nFebruary 2026 \n11. Pride \n12. Selfishness \nMarch 7\, 2026 \n14. Impatience and Irritablility \n15. Anger \n16. Weeds of Anger \nApril 2026 \n17. Judgmentalism \n19. Sins of the Tongue \nMay 2026 \n13. Lack of Self-Control \n18. Envy\, Jealousy\, and Related Sins \nJune 6\, 2026 \n20. Worldliness \n21. Where do We Go From Here?
URL:https://ebcwindsor.com/event/mbrs/2026-03-07/
LOCATION:Ontario
CATEGORIES:Regular Events
END:VEVENT
BEGIN:VEVENT
DTSTART;TZID=America/Detroit:20260308T093000
DTEND;TZID=America/Detroit:20260308T110000
DTSTAMP:20260425T103206
CREATED:20221006T200222Z
LAST-MODIFIED:20221006T200222Z
UID:14000-1772962200-1772967600@ebcwindsor.com
SUMMARY:Morning Worship Service
DESCRIPTION:We enjoy the Lord’s Table (Communion) together on every first Sunday of the month. Junior Church ministry is offered to children aged 3 through 7. Nursery ministry is available for children aged 0 through 2. See “How We Worship” for more details regarding what our worship services look like.
URL:https://ebcwindsor.com/event/morning-worship-service/2026-03-08/
LOCATION:Emmanuel Baptist Church\, 5445 Walker Road\, Oldcastle\, Ontario\, N0R1L0\, Canada
CATEGORIES:Regular Events
END:VEVENT
END:VCALENDAR