BEGIN:VCALENDAR
VERSION:2.0
PRODID:-//Emmanuel Baptist Church - ECPv6.15.20//NONSGML v1.0//EN
CALSCALE:GREGORIAN
METHOD:PUBLISH
X-WR-CALNAME:Emmanuel Baptist Church
X-ORIGINAL-URL:https://ebcwindsor.com
X-WR-CALDESC:Events for Emmanuel Baptist Church
REFRESH-INTERVAL;VALUE=DURATION:PT1H
X-Robots-Tag:noindex
X-PUBLISHED-TTL:PT1H
BEGIN:VTIMEZONE
TZID:America/Detroit
BEGIN:DAYLIGHT
TZOFFSETFROM:-0500
TZOFFSETTO:-0400
TZNAME:EDT
DTSTART:20250309T070000
END:DAYLIGHT
BEGIN:STANDARD
TZOFFSETFROM:-0400
TZOFFSETTO:-0500
TZNAME:EST
DTSTART:20251102T060000
END:STANDARD
BEGIN:DAYLIGHT
TZOFFSETFROM:-0500
TZOFFSETTO:-0400
TZNAME:EDT
DTSTART:20260308T070000
END:DAYLIGHT
BEGIN:STANDARD
TZOFFSETFROM:-0400
TZOFFSETTO:-0500
TZNAME:EST
DTSTART:20261101T060000
END:STANDARD
BEGIN:DAYLIGHT
TZOFFSETFROM:-0500
TZOFFSETTO:-0400
TZNAME:EDT
DTSTART:20270314T070000
END:DAYLIGHT
BEGIN:STANDARD
TZOFFSETFROM:-0400
TZOFFSETTO:-0500
TZNAME:EST
DTSTART:20271107T060000
END:STANDARD
END:VTIMEZONE
BEGIN:VEVENT
DTSTART;TZID=America/Detroit:20260221T090000
DTEND;TZID=America/Detroit:20260221T103000
DTSTAMP:20260425T120601
CREATED:20241102T103634Z
LAST-MODIFIED:20241102T103634Z
UID:15853-1771664400-1771669800@ebcwindsor.com
SUMMARY:Women's Book Study
DESCRIPTION:The women of our church are invited to this monthly book study. Come and discuss the chapter at hand and grow further into Christ’s image as the truths of Scripture are understood and applied. See Holly for further details.
URL:https://ebcwindsor.com/event/womens-book-study-2/2026-02-21/
END:VEVENT
BEGIN:VEVENT
DTSTART;TZID=America/Detroit:20260222T093000
DTEND;TZID=America/Detroit:20260222T110000
DTSTAMP:20260425T120601
CREATED:20221006T200222Z
LAST-MODIFIED:20221006T200222Z
UID:13663-1771752600-1771758000@ebcwindsor.com
SUMMARY:Morning Worship Service
DESCRIPTION:We enjoy the Lord’s Table (Communion) together on every first Sunday of the month. Junior Church ministry is offered to children aged 3 through 7. Nursery ministry is available for children aged 0 through 2. See “How We Worship” for more details regarding what our worship services look like.
URL:https://ebcwindsor.com/event/morning-worship-service/2026-02-22/
LOCATION:Emmanuel Baptist Church\, 5445 Walker Road\, Oldcastle\, Ontario\, N0R1L0\, Canada
CATEGORIES:Regular Events
END:VEVENT
BEGIN:VEVENT
DTSTART;TZID=America/Detroit:20260222T110000
DTEND;TZID=America/Detroit:20260222T120000
DTSTAMP:20260425T120601
CREATED:20240302T010621Z
LAST-MODIFIED:20240302T010621Z
UID:13794-1771758000-1771761600@ebcwindsor.com
SUMMARY:Monthly Prayer Meeting
DESCRIPTION:Our monthly prayer meeting gives a regular opportunity for men to pray with men\, and women to pray with women\, to bring our individual and corporate concerns before the Lord. (Our nursery and children’s Sunday School ministries continue during this scheduled time for prayer.)
URL:https://ebcwindsor.com/event/monthly-prayer-meeting-2/2026-02-22/
LOCATION:Emmanuel Baptist Church\, 5445 Walker Road\, Oldcastle\, Ontario\, N0R1L0\, Canada
CATEGORIES:Regular Events
END:VEVENT
BEGIN:VEVENT
DTSTART;TZID=America/Detroit:20260222T180000
DTEND;TZID=America/Detroit:20260222T193000
DTSTAMP:20260425T120602
CREATED:20221116T030155Z
LAST-MODIFIED:20240303T212826Z
UID:13879-1771783200-1771788600@ebcwindsor.com
SUMMARY:Evening Worship Service
DESCRIPTION:Evening Worship Service
URL:https://ebcwindsor.com/event/evening-worship-service-3/2026-02-22/
LOCATION:Emmanuel Baptist Church\, 5445 Walker Road\, Oldcastle\, Ontario\, N0R1L0\, Canada
CATEGORIES:Regular Events
END:VEVENT
BEGIN:VEVENT
DTSTART;TZID=America/Detroit:20260225T190000
DTEND;TZID=America/Detroit:20260225T201500
DTSTAMP:20260425T120602
CREATED:20241215T185704Z
LAST-MODIFIED:20241215T185704Z
UID:15680-1772046000-1772050500@ebcwindsor.com
SUMMARY:Wednesday Night Bible Study
DESCRIPTION:Join the adults in a weekly Bible study through Crossway’s Haggai\, Zechariah\, and Malachi: A 12-Week Study (see here for details). Our midweek ministry also includes a Youth Bible study and Wise Crackers\, a time of instruction for those aged 3 through 7.
URL:https://ebcwindsor.com/event/wnbs-hzm/2026-02-25/
LOCATION:Emmanuel Baptist Church\, 5445 Walker Road\, Oldcastle\, Ontario\, N0R1L0\, Canada
CATEGORIES:Regular Events
END:VEVENT
BEGIN:VEVENT
DTSTART;TZID=America/Detroit:20260301T093000
DTEND;TZID=America/Detroit:20260301T110000
DTSTAMP:20260425T120602
CREATED:20221006T200222Z
LAST-MODIFIED:20221006T200222Z
UID:13953-1772357400-1772362800@ebcwindsor.com
SUMMARY:Morning Worship Service
DESCRIPTION:We enjoy the Lord’s Table (Communion) together on every first Sunday of the month. Junior Church ministry is offered to children aged 3 through 7. Nursery ministry is available for children aged 0 through 2. See “How We Worship” for more details regarding what our worship services look like.
URL:https://ebcwindsor.com/event/morning-worship-service/2026-03-01/
LOCATION:Emmanuel Baptist Church\, 5445 Walker Road\, Oldcastle\, Ontario\, N0R1L0\, Canada
CATEGORIES:Regular Events
END:VEVENT
BEGIN:VEVENT
DTSTART;TZID=America/Detroit:20260301T110000
DTEND;TZID=America/Detroit:20260301T114500
DTSTAMP:20260425T120602
CREATED:20240302T010326Z
LAST-MODIFIED:20240302T010326Z
UID:13954-1772362800-1772365500@ebcwindsor.com
SUMMARY:Sunday School for All Ages
DESCRIPTION:We offer Sunday School ministry for all ages.
URL:https://ebcwindsor.com/event/sunday-school-for-all-ages-3/2026-03-01/
LOCATION:Emmanuel Baptist Church\, 5445 Walker Road\, Oldcastle\, Ontario\, N0R1L0\, Canada
CATEGORIES:Regular Events
END:VEVENT
BEGIN:VEVENT
DTSTART;TZID=America/Detroit:20260301T114500
DTEND;TZID=America/Detroit:20260301T124500
DTSTAMP:20260425T120602
CREATED:20260209T085450Z
LAST-MODIFIED:20260209T085450Z
UID:15939-1772365500-1772369100@ebcwindsor.com
SUMMARY:Chilli Lunch Fellowship
DESCRIPTION:You’re welcome to join us for a Chilli Lunch Fellowship. Please refer to the sign-up sheet on our bulletin board to see what you can bring as we plan to encourage one another and enjoy the good gifts God gives between our Sunday School hour and afternoon worship service. See Cheryl Weller for further details.
URL:https://ebcwindsor.com/event/chilli-lunch-fellowship/
LOCATION:Emmanuel Baptist Church\, 5445 Walker Road\, Oldcastle\, Ontario\, N0R1L0\, Canada
CATEGORIES:Occasional Events
END:VEVENT
BEGIN:VEVENT
DTSTART;TZID=America/Detroit:20260301T130000
DTEND;TZID=America/Detroit:20260301T143000
DTSTAMP:20260425T120602
CREATED:20221007T151633Z
LAST-MODIFIED:20221007T151633Z
UID:15613-1772370000-1772375400@ebcwindsor.com
SUMMARY:Afternoon Worship Service
DESCRIPTION:Afternoon Worship Service. \nThis worship service follows our Lunch Fellowship on the first and third Sundays of each month.
URL:https://ebcwindsor.com/event/evening-worship-service-2/2026-03-01/
LOCATION:Emmanuel Baptist Church\, 5445 Walker Road\, Oldcastle\, Ontario\, N0R1L0\, Canada
CATEGORIES:Regular Events
END:VEVENT
BEGIN:VEVENT
DTSTART;TZID=America/Detroit:20260304T190000
DTEND;TZID=America/Detroit:20260304T201500
DTSTAMP:20260425T120602
CREATED:20241215T185704Z
LAST-MODIFIED:20241215T185704Z
UID:15681-1772650800-1772655300@ebcwindsor.com
SUMMARY:Wednesday Night Bible Study
DESCRIPTION:Join the adults in a weekly Bible study through Crossway’s Haggai\, Zechariah\, and Malachi: A 12-Week Study (see here for details). Our midweek ministry also includes a Youth Bible study and Wise Crackers\, a time of instruction for those aged 3 through 7.
URL:https://ebcwindsor.com/event/wnbs-hzm/2026-03-04/
LOCATION:Emmanuel Baptist Church\, 5445 Walker Road\, Oldcastle\, Ontario\, N0R1L0\, Canada
CATEGORIES:Regular Events
END:VEVENT
BEGIN:VEVENT
DTSTART;TZID=America/Detroit:20260307T080000
DTEND;TZID=America/Detroit:20260307T103000
DTSTAMP:20260425T120602
CREATED:20250622T190052Z
LAST-MODIFIED:20250831T102654Z
UID:15270-1772870400-1772879400@ebcwindsor.com
SUMMARY:Men's Breakfast
DESCRIPTION:Starting September 2025 the men of our church will gather once per month for breakfast to encourage one another in the Lord and study through Jerry Bridges’ book Respectable Sins. See Jeff Mitchell for further details. We’ll work through the chapters as follows: \n  \nSeptember 2025 \n1. Ordinary Saints \n2. The Disappearance of Sin \n3\, The Malignancy of Sin \nOctober 2025 \n4. The Remedy for Sin \n5. The Power of the Holy Spirit \n6. Directions for Dealing with Sins \nNovember 2025 \n7. Ungodliness \n10. Unthankfulness \nJanuary 2026 \n8. Anxiety and Frustration \n9. Discontentment \nFebruary 2026 \n11. Pride \n12. Selfishness \nMarch 7\, 2026 \n14. Impatience and Irritablility \n15. Anger \n16. Weeds of Anger \nApril 2026 \n17. Judgmentalism \n19. Sins of the Tongue \nMay 2026 \n13. Lack of Self-Control \n18. Envy\, Jealousy\, and Related Sins \nJune 6\, 2026 \n20. Worldliness \n21. Where do We Go From Here?
URL:https://ebcwindsor.com/event/mbrs/2026-03-07/
CATEGORIES:Regular Events
END:VEVENT
BEGIN:VEVENT
DTSTART;TZID=America/Detroit:20260308T093000
DTEND;TZID=America/Detroit:20260308T110000
DTSTAMP:20260425T120602
CREATED:20221006T200222Z
LAST-MODIFIED:20221006T200222Z
UID:14000-1772962200-1772967600@ebcwindsor.com
SUMMARY:Morning Worship Service
DESCRIPTION:We enjoy the Lord’s Table (Communion) together on every first Sunday of the month. Junior Church ministry is offered to children aged 3 through 7. Nursery ministry is available for children aged 0 through 2. See “How We Worship” for more details regarding what our worship services look like.
URL:https://ebcwindsor.com/event/morning-worship-service/2026-03-08/
LOCATION:Emmanuel Baptist Church\, 5445 Walker Road\, Oldcastle\, Ontario\, N0R1L0\, Canada
CATEGORIES:Regular Events
END:VEVENT
BEGIN:VEVENT
DTSTART;TZID=America/Detroit:20260308T110000
DTEND;TZID=America/Detroit:20260308T114500
DTSTAMP:20260425T120602
CREATED:20240302T010326Z
LAST-MODIFIED:20240302T010326Z
UID:14001-1772967600-1772970300@ebcwindsor.com
SUMMARY:Sunday School for All Ages
DESCRIPTION:We offer Sunday School ministry for all ages.
URL:https://ebcwindsor.com/event/sunday-school-for-all-ages-3/2026-03-08/
LOCATION:Emmanuel Baptist Church\, 5445 Walker Road\, Oldcastle\, Ontario\, N0R1L0\, Canada
CATEGORIES:Regular Events
END:VEVENT
BEGIN:VEVENT
DTSTART;TZID=America/Detroit:20260308T180000
DTEND;TZID=America/Detroit:20260308T193000
DTSTAMP:20260425T120602
CREATED:20221116T030155Z
LAST-MODIFIED:20221116T030155Z
UID:14002-1772992800-1772998200@ebcwindsor.com
SUMMARY:Evening Worship Service
DESCRIPTION:Evening Worship Service
URL:https://ebcwindsor.com/event/evening-worship-service-3/2026-03-08/
LOCATION:Emmanuel Baptist Church\, 5445 Walker Road\, Oldcastle\, Ontario\, N0R1L0\, Canada
CATEGORIES:Regular Events
END:VEVENT
BEGIN:VEVENT
DTSTART;TZID=America/Detroit:20260315T093000
DTEND;TZID=America/Detroit:20260315T110000
DTSTAMP:20260425T120602
CREATED:20221006T200222Z
LAST-MODIFIED:20221006T200222Z
UID:14016-1773567000-1773572400@ebcwindsor.com
SUMMARY:Morning Worship Service
DESCRIPTION:We enjoy the Lord’s Table (Communion) together on every first Sunday of the month. Junior Church ministry is offered to children aged 3 through 7. Nursery ministry is available for children aged 0 through 2. See “How We Worship” for more details regarding what our worship services look like.
URL:https://ebcwindsor.com/event/morning-worship-service/2026-03-15/
LOCATION:Emmanuel Baptist Church\, 5445 Walker Road\, Oldcastle\, Ontario\, N0R1L0\, Canada
CATEGORIES:Regular Events
END:VEVENT
BEGIN:VEVENT
DTSTART;TZID=America/Detroit:20260315T110000
DTEND;TZID=America/Detroit:20260315T114500
DTSTAMP:20260425T120602
CREATED:20240302T010326Z
LAST-MODIFIED:20240302T010326Z
UID:14017-1773572400-1773575100@ebcwindsor.com
SUMMARY:Sunday School for All Ages
DESCRIPTION:We offer Sunday School ministry for all ages.
URL:https://ebcwindsor.com/event/sunday-school-for-all-ages-3/2026-03-15/
LOCATION:Emmanuel Baptist Church\, 5445 Walker Road\, Oldcastle\, Ontario\, N0R1L0\, Canada
CATEGORIES:Regular Events
END:VEVENT
BEGIN:VEVENT
DTSTART;TZID=America/Detroit:20260315T120000
DTEND;TZID=America/Detroit:20260315T130000
DTSTAMP:20260425T120602
CREATED:20240217T121637Z
LAST-MODIFIED:20240217T121637Z
UID:15505-1773576000-1773579600@ebcwindsor.com
SUMMARY:Lunch Fellowship
DESCRIPTION:Bring-Your-Own-Lunch Fellowship \nWe’d love to get to know you between our Sunday School class and afternoon worship service on the first and third Sunday of each month.
URL:https://ebcwindsor.com/event/lunch-fellowship-2/2026-03-15/
LOCATION:Emmanuel Baptist Church\, 5445 Walker Road\, Oldcastle\, Ontario\, N0R1L0\, Canada
CATEGORIES:Regular Events
END:VEVENT
BEGIN:VEVENT
DTSTART;TZID=America/Detroit:20260315T130000
DTEND;TZID=America/Detroit:20260315T143000
DTSTAMP:20260425T120602
CREATED:20221007T151633Z
LAST-MODIFIED:20221007T151633Z
UID:15614-1773579600-1773585000@ebcwindsor.com
SUMMARY:Afternoon Worship Service
DESCRIPTION:Afternoon Worship Service. \nThis worship service follows our Lunch Fellowship on the first and third Sundays of each month.
URL:https://ebcwindsor.com/event/evening-worship-service-2/2026-03-15/
LOCATION:Emmanuel Baptist Church\, 5445 Walker Road\, Oldcastle\, Ontario\, N0R1L0\, Canada
CATEGORIES:Regular Events
END:VEVENT
BEGIN:VEVENT
DTSTART;TZID=America/Detroit:20260321T090000
DTEND;TZID=America/Detroit:20260321T103000
DTSTAMP:20260425T120602
CREATED:20241102T103634Z
LAST-MODIFIED:20241102T103634Z
UID:15854-1774083600-1774089000@ebcwindsor.com
SUMMARY:Women's Book Study
DESCRIPTION:The women of our church are invited to this monthly book study. Come and discuss the chapter at hand and grow further into Christ’s image as the truths of Scripture are understood and applied. See Holly for further details.
URL:https://ebcwindsor.com/event/womens-book-study-2/2026-03-21/
END:VEVENT
BEGIN:VEVENT
DTSTART;TZID=America/Detroit:20260322T093000
DTEND;TZID=America/Detroit:20260322T110000
DTSTAMP:20260425T120602
CREATED:20221006T200222Z
LAST-MODIFIED:20221006T200222Z
UID:14027-1774171800-1774177200@ebcwindsor.com
SUMMARY:Morning Worship Service
DESCRIPTION:We enjoy the Lord’s Table (Communion) together on every first Sunday of the month. Junior Church ministry is offered to children aged 3 through 7. Nursery ministry is available for children aged 0 through 2. See “How We Worship” for more details regarding what our worship services look like.
URL:https://ebcwindsor.com/event/morning-worship-service/2026-03-22/
LOCATION:Emmanuel Baptist Church\, 5445 Walker Road\, Oldcastle\, Ontario\, N0R1L0\, Canada
CATEGORIES:Regular Events
END:VEVENT
BEGIN:VEVENT
DTSTART;TZID=America/Detroit:20260322T110000
DTEND;TZID=America/Detroit:20260322T114500
DTSTAMP:20260425T120602
CREATED:20240302T010326Z
LAST-MODIFIED:20240302T010326Z
UID:14028-1774177200-1774179900@ebcwindsor.com
SUMMARY:Sunday School for All Ages
DESCRIPTION:We offer Sunday School ministry for all ages.
URL:https://ebcwindsor.com/event/sunday-school-for-all-ages-3/2026-03-22/
LOCATION:Emmanuel Baptist Church\, 5445 Walker Road\, Oldcastle\, Ontario\, N0R1L0\, Canada
CATEGORIES:Regular Events
END:VEVENT
BEGIN:VEVENT
DTSTART;TZID=America/Detroit:20260322T180000
DTEND;TZID=America/Detroit:20260322T193000
DTSTAMP:20260425T120602
CREATED:20221116T030155Z
LAST-MODIFIED:20221116T030155Z
UID:14029-1774202400-1774207800@ebcwindsor.com
SUMMARY:Evening Worship Service
DESCRIPTION:Evening Worship Service
URL:https://ebcwindsor.com/event/evening-worship-service-3/2026-03-22/
LOCATION:Emmanuel Baptist Church\, 5445 Walker Road\, Oldcastle\, Ontario\, N0R1L0\, Canada
CATEGORIES:Regular Events
END:VEVENT
BEGIN:VEVENT
DTSTART;TZID=America/Detroit:20260329T093000
DTEND;TZID=America/Detroit:20260329T110000
DTSTAMP:20260425T120602
CREATED:20221006T200222Z
LAST-MODIFIED:20221006T200222Z
UID:14043-1774776600-1774782000@ebcwindsor.com
SUMMARY:Morning Worship Service
DESCRIPTION:We enjoy the Lord’s Table (Communion) together on every first Sunday of the month. Junior Church ministry is offered to children aged 3 through 7. Nursery ministry is available for children aged 0 through 2. See “How We Worship” for more details regarding what our worship services look like.
URL:https://ebcwindsor.com/event/morning-worship-service/2026-03-29/
LOCATION:Emmanuel Baptist Church\, 5445 Walker Road\, Oldcastle\, Ontario\, N0R1L0\, Canada
CATEGORIES:Regular Events
END:VEVENT
BEGIN:VEVENT
DTSTART;TZID=America/Detroit:20260329T110000
DTEND;TZID=America/Detroit:20260329T120000
DTSTAMP:20260425T120602
CREATED:20240302T010621Z
LAST-MODIFIED:20240302T010621Z
UID:14042-1774782000-1774785600@ebcwindsor.com
SUMMARY:Monthly Prayer Meeting
DESCRIPTION:Our monthly prayer meeting gives a regular opportunity for men to pray with men\, and women to pray with women\, to bring our individual and corporate concerns before the Lord. (Our nursery and children’s Sunday School ministries continue during this scheduled time for prayer.)
URL:https://ebcwindsor.com/event/monthly-prayer-meeting-2/2026-03-29/
LOCATION:Emmanuel Baptist Church\, 5445 Walker Road\, Oldcastle\, Ontario\, N0R1L0\, Canada
CATEGORIES:Regular Events
END:VEVENT
BEGIN:VEVENT
DTSTART;TZID=America/Detroit:20260329T180000
DTEND;TZID=America/Detroit:20260329T193000
DTSTAMP:20260425T120602
CREATED:20221116T030155Z
LAST-MODIFIED:20221116T030155Z
UID:14044-1774807200-1774812600@ebcwindsor.com
SUMMARY:Evening Worship Service
DESCRIPTION:Evening Worship Service
URL:https://ebcwindsor.com/event/evening-worship-service-3/2026-03-29/
LOCATION:Emmanuel Baptist Church\, 5445 Walker Road\, Oldcastle\, Ontario\, N0R1L0\, Canada
CATEGORIES:Regular Events
END:VEVENT
BEGIN:VEVENT
DTSTART;TZID=America/Detroit:20260404T080000
DTEND;TZID=America/Detroit:20260404T103000
DTSTAMP:20260425T120602
CREATED:20250622T190052Z
LAST-MODIFIED:20250831T102655Z
UID:15271-1775289600-1775298600@ebcwindsor.com
SUMMARY:Men's Breakfast
DESCRIPTION:Starting September 2025 the men of our church will gather once per month for breakfast to encourage one another in the Lord and study through Jerry Bridges’ book Respectable Sins. See Jeff Mitchell for further details. We’ll work through the chapters as follows: \n  \nSeptember 2025 \n1. Ordinary Saints \n2. The Disappearance of Sin \n3\, The Malignancy of Sin \nOctober 2025 \n4. The Remedy for Sin \n5. The Power of the Holy Spirit \n6. Directions for Dealing with Sins \nNovember 2025 \n7. Ungodliness \n10. Unthankfulness \nJanuary 2026 \n8. Anxiety and Frustration \n9. Discontentment \nFebruary 2026 \n11. Pride \n12. Selfishness \nMarch 7\, 2026 \n14. Impatience and Irritablility \n15. Anger \n16. Weeds of Anger \nApril 2026 \n17. Judgmentalism \n19. Sins of the Tongue \nMay 2026 \n13. Lack of Self-Control \n18. Envy\, Jealousy\, and Related Sins \nJune 6\, 2026 \n20. Worldliness \n21. Where do We Go From Here?
URL:https://ebcwindsor.com/event/mbrs/2026-04-04/
CATEGORIES:Regular Events
END:VEVENT
BEGIN:VEVENT
DTSTART;TZID=America/Detroit:20260405T093000
DTEND;TZID=America/Detroit:20260405T110000
DTSTAMP:20260425T120602
CREATED:20221006T200222Z
LAST-MODIFIED:20221006T200222Z
UID:14050-1775381400-1775386800@ebcwindsor.com
SUMMARY:Morning Worship Service
DESCRIPTION:We enjoy the Lord’s Table (Communion) together on every first Sunday of the month. Junior Church ministry is offered to children aged 3 through 7. Nursery ministry is available for children aged 0 through 2. See “How We Worship” for more details regarding what our worship services look like.
URL:https://ebcwindsor.com/event/morning-worship-service/2026-04-05/
LOCATION:Emmanuel Baptist Church\, 5445 Walker Road\, Oldcastle\, Ontario\, N0R1L0\, Canada
CATEGORIES:Regular Events
END:VEVENT
BEGIN:VEVENT
DTSTART;TZID=America/Detroit:20260405T110000
DTEND;TZID=America/Detroit:20260405T114500
DTSTAMP:20260425T120602
CREATED:20240302T010326Z
LAST-MODIFIED:20240302T010326Z
UID:14051-1775386800-1775389500@ebcwindsor.com
SUMMARY:Sunday School for All Ages
DESCRIPTION:We offer Sunday School ministry for all ages.
URL:https://ebcwindsor.com/event/sunday-school-for-all-ages-3/2026-04-05/
LOCATION:Emmanuel Baptist Church\, 5445 Walker Road\, Oldcastle\, Ontario\, N0R1L0\, Canada
CATEGORIES:Regular Events
END:VEVENT
BEGIN:VEVENT
DTSTART;TZID=America/Detroit:20260405T120000
DTEND;TZID=America/Detroit:20260405T130000
DTSTAMP:20260425T120602
CREATED:20240217T121637Z
LAST-MODIFIED:20240217T121637Z
UID:15506-1775390400-1775394000@ebcwindsor.com
SUMMARY:Lunch Fellowship
DESCRIPTION:Bring-Your-Own-Lunch Fellowship \nWe’d love to get to know you between our Sunday School class and afternoon worship service on the first and third Sunday of each month.
URL:https://ebcwindsor.com/event/lunch-fellowship-2/2026-04-05/
LOCATION:Emmanuel Baptist Church\, 5445 Walker Road\, Oldcastle\, Ontario\, N0R1L0\, Canada
CATEGORIES:Regular Events
END:VEVENT
BEGIN:VEVENT
DTSTART;TZID=America/Detroit:20260405T130000
DTEND;TZID=America/Detroit:20260405T143000
DTSTAMP:20260425T120602
CREATED:20221007T151633Z
LAST-MODIFIED:20221007T151633Z
UID:15615-1775394000-1775399400@ebcwindsor.com
SUMMARY:Afternoon Worship Service
DESCRIPTION:Afternoon Worship Service. \nThis worship service follows our Lunch Fellowship on the first and third Sundays of each month.
URL:https://ebcwindsor.com/event/evening-worship-service-2/2026-04-05/
LOCATION:Emmanuel Baptist Church\, 5445 Walker Road\, Oldcastle\, Ontario\, N0R1L0\, Canada
CATEGORIES:Regular Events
END:VEVENT
END:VCALENDAR