BEGIN:VCALENDAR
VERSION:2.0
PRODID:-//Emmanuel Baptist Church - ECPv6.15.20//NONSGML v1.0//EN
CALSCALE:GREGORIAN
METHOD:PUBLISH
X-ORIGINAL-URL:https://ebcwindsor.com
X-WR-CALDESC:Events for Emmanuel Baptist Church
REFRESH-INTERVAL;VALUE=DURATION:PT1H
X-Robots-Tag:noindex
X-PUBLISHED-TTL:PT1H
BEGIN:VTIMEZONE
TZID:America/Detroit
BEGIN:DAYLIGHT
TZOFFSETFROM:-0500
TZOFFSETTO:-0400
TZNAME:EDT
DTSTART:20260308T070000
END:DAYLIGHT
BEGIN:STANDARD
TZOFFSETFROM:-0400
TZOFFSETTO:-0500
TZNAME:EST
DTSTART:20261101T060000
END:STANDARD
BEGIN:DAYLIGHT
TZOFFSETFROM:-0500
TZOFFSETTO:-0400
TZNAME:EDT
DTSTART:20270314T070000
END:DAYLIGHT
BEGIN:STANDARD
TZOFFSETFROM:-0400
TZOFFSETTO:-0500
TZNAME:EST
DTSTART:20271107T060000
END:STANDARD
BEGIN:DAYLIGHT
TZOFFSETFROM:-0500
TZOFFSETTO:-0400
TZNAME:EDT
DTSTART:20280312T070000
END:DAYLIGHT
BEGIN:STANDARD
TZOFFSETFROM:-0400
TZOFFSETTO:-0500
TZNAME:EST
DTSTART:20281105T060000
END:STANDARD
END:VTIMEZONE
BEGIN:VEVENT
DTSTART;TZID=America/Detroit:20270103T093000
DTEND;TZID=America/Detroit:20270103T110000
DTSTAMP:20260425T115956
CREATED:20221006T200222Z
LAST-MODIFIED:20221006T200222Z
UID:14833-1798968600-1798974000@ebcwindsor.com
SUMMARY:Morning Worship Service
DESCRIPTION:We enjoy the Lord’s Table (Communion) together on every first Sunday of the month. Junior Church ministry is offered to children aged 3 through 7. Nursery ministry is available for children aged 0 through 2. See “How We Worship” for more details regarding what our worship services look like.
URL:https://ebcwindsor.com/event/morning-worship-service/2027-01-03/
LOCATION:Emmanuel Baptist Church\, 5445 Walker Road\, Oldcastle\, Ontario\, N0R1L0\, Canada
CATEGORIES:Regular Events
END:VEVENT
BEGIN:VEVENT
DTSTART;TZID=America/Detroit:20270103T110000
DTEND;TZID=America/Detroit:20270103T114500
DTSTAMP:20260425T115956
CREATED:20240302T010326Z
LAST-MODIFIED:20240302T010326Z
UID:14834-1798974000-1798976700@ebcwindsor.com
SUMMARY:Sunday School for All Ages
DESCRIPTION:We offer Sunday School ministry for all ages.
URL:https://ebcwindsor.com/event/sunday-school-for-all-ages-3/2027-01-03/
LOCATION:Emmanuel Baptist Church\, 5445 Walker Road\, Oldcastle\, Ontario\, N0R1L0\, Canada
CATEGORIES:Regular Events
END:VEVENT
BEGIN:VEVENT
DTSTART;TZID=America/Detroit:20270103T120000
DTEND;TZID=America/Detroit:20270103T130000
DTSTAMP:20260425T115956
CREATED:20240217T121637Z
LAST-MODIFIED:20240217T121637Z
UID:15524-1798977600-1798981200@ebcwindsor.com
SUMMARY:Lunch Fellowship
DESCRIPTION:Bring-Your-Own-Lunch Fellowship \nWe’d love to get to know you between our Sunday School class and afternoon worship service on the first and third Sunday of each month.
URL:https://ebcwindsor.com/event/lunch-fellowship-2/2027-01-03/
LOCATION:Emmanuel Baptist Church\, 5445 Walker Road\, Oldcastle\, Ontario\, N0R1L0\, Canada
CATEGORIES:Regular Events
END:VEVENT
BEGIN:VEVENT
DTSTART;TZID=America/Detroit:20270110T093000
DTEND;TZID=America/Detroit:20270110T110000
DTSTAMP:20260425T115956
CREATED:20221006T200222Z
LAST-MODIFIED:20221006T200222Z
UID:14839-1799573400-1799578800@ebcwindsor.com
SUMMARY:Morning Worship Service
DESCRIPTION:We enjoy the Lord’s Table (Communion) together on every first Sunday of the month. Junior Church ministry is offered to children aged 3 through 7. Nursery ministry is available for children aged 0 through 2. See “How We Worship” for more details regarding what our worship services look like.
URL:https://ebcwindsor.com/event/morning-worship-service/2027-01-10/
LOCATION:Emmanuel Baptist Church\, 5445 Walker Road\, Oldcastle\, Ontario\, N0R1L0\, Canada
CATEGORIES:Regular Events
END:VEVENT
BEGIN:VEVENT
DTSTART;TZID=America/Detroit:20270110T093000
DTEND;TZID=America/Detroit:20270110T110000
DTSTAMP:20260425T115956
CREATED:20221006T200222Z
LAST-MODIFIED:20221006T200222Z
UID:14840-1799573400-1799578800@ebcwindsor.com
SUMMARY:Morning Worship Service
DESCRIPTION:We enjoy the Lord’s Table (Communion) together on every first Sunday of the month. Junior Church ministry is offered to children aged 3 through 7. Nursery ministry is available for children aged 0 through 2. See “How We Worship” for more details regarding what our worship services look like.
URL:https://ebcwindsor.com/event/morning-worship-service/2027-01-10/
LOCATION:Emmanuel Baptist Church\, 5445 Walker Road\, Oldcastle\, Ontario\, N0R1L0\, Canada
CATEGORIES:Regular Events
END:VEVENT
BEGIN:VEVENT
DTSTART;TZID=America/Detroit:20270110T110000
DTEND;TZID=America/Detroit:20270110T114500
DTSTAMP:20260425T115956
CREATED:20240302T010326Z
LAST-MODIFIED:20240302T010326Z
UID:14841-1799578800-1799581500@ebcwindsor.com
SUMMARY:Sunday School for All Ages
DESCRIPTION:We offer Sunday School ministry for all ages.
URL:https://ebcwindsor.com/event/sunday-school-for-all-ages-3/2027-01-10/
LOCATION:Emmanuel Baptist Church\, 5445 Walker Road\, Oldcastle\, Ontario\, N0R1L0\, Canada
CATEGORIES:Regular Events
END:VEVENT
BEGIN:VEVENT
DTSTART;TZID=America/Detroit:20270110T110000
DTEND;TZID=America/Detroit:20270110T114500
DTSTAMP:20260425T115956
CREATED:20240302T010326Z
LAST-MODIFIED:20240302T010326Z
UID:14842-1799578800-1799581500@ebcwindsor.com
SUMMARY:Sunday School for All Ages
DESCRIPTION:We offer Sunday School ministry for all ages.
URL:https://ebcwindsor.com/event/sunday-school-for-all-ages-3/2027-01-10/
LOCATION:Emmanuel Baptist Church\, 5445 Walker Road\, Oldcastle\, Ontario\, N0R1L0\, Canada
CATEGORIES:Regular Events
END:VEVENT
BEGIN:VEVENT
DTSTART;TZID=America/Detroit:20270110T180000
DTEND;TZID=America/Detroit:20270110T193000
DTSTAMP:20260425T115956
CREATED:20221116T030155Z
LAST-MODIFIED:20221116T030155Z
UID:14844-1799604000-1799609400@ebcwindsor.com
SUMMARY:Evening Worship Service
DESCRIPTION:Evening Worship Service
URL:https://ebcwindsor.com/event/evening-worship-service-3/2027-01-10/
LOCATION:Emmanuel Baptist Church\, 5445 Walker Road\, Oldcastle\, Ontario\, N0R1L0\, Canada
CATEGORIES:Regular Events
END:VEVENT
BEGIN:VEVENT
DTSTART;TZID=America/Detroit:20270110T180000
DTEND;TZID=America/Detroit:20270110T193000
DTSTAMP:20260425T115956
CREATED:20221116T030155Z
LAST-MODIFIED:20221116T030155Z
UID:14843-1799604000-1799609400@ebcwindsor.com
SUMMARY:Evening Worship Service
DESCRIPTION:Evening Worship Service
URL:https://ebcwindsor.com/event/evening-worship-service-3/2027-01-10/
LOCATION:Emmanuel Baptist Church\, 5445 Walker Road\, Oldcastle\, Ontario\, N0R1L0\, Canada
CATEGORIES:Regular Events
END:VEVENT
BEGIN:VEVENT
DTSTART;TZID=America/Detroit:20270117T093000
DTEND;TZID=America/Detroit:20270117T110000
DTSTAMP:20260425T115956
CREATED:20221006T200222Z
LAST-MODIFIED:20221006T200222Z
UID:14853-1800178200-1800183600@ebcwindsor.com
SUMMARY:Morning Worship Service
DESCRIPTION:We enjoy the Lord’s Table (Communion) together on every first Sunday of the month. Junior Church ministry is offered to children aged 3 through 7. Nursery ministry is available for children aged 0 through 2. See “How We Worship” for more details regarding what our worship services look like.
URL:https://ebcwindsor.com/event/morning-worship-service/2027-01-17/
LOCATION:Emmanuel Baptist Church\, 5445 Walker Road\, Oldcastle\, Ontario\, N0R1L0\, Canada
CATEGORIES:Regular Events
END:VEVENT
BEGIN:VEVENT
DTSTART;TZID=America/Detroit:20270117T110000
DTEND;TZID=America/Detroit:20270117T114500
DTSTAMP:20260425T115956
CREATED:20240302T010326Z
LAST-MODIFIED:20240302T010326Z
UID:14854-1800183600-1800186300@ebcwindsor.com
SUMMARY:Sunday School for All Ages
DESCRIPTION:We offer Sunday School ministry for all ages.
URL:https://ebcwindsor.com/event/sunday-school-for-all-ages-3/2027-01-17/
LOCATION:Emmanuel Baptist Church\, 5445 Walker Road\, Oldcastle\, Ontario\, N0R1L0\, Canada
CATEGORIES:Regular Events
END:VEVENT
BEGIN:VEVENT
DTSTART;TZID=America/Detroit:20270117T120000
DTEND;TZID=America/Detroit:20270117T130000
DTSTAMP:20260425T115956
CREATED:20240217T121637Z
LAST-MODIFIED:20240217T121637Z
UID:15525-1800187200-1800190800@ebcwindsor.com
SUMMARY:Lunch Fellowship
DESCRIPTION:Bring-Your-Own-Lunch Fellowship \nWe’d love to get to know you between our Sunday School class and afternoon worship service on the first and third Sunday of each month.
URL:https://ebcwindsor.com/event/lunch-fellowship-2/2027-01-17/
LOCATION:Emmanuel Baptist Church\, 5445 Walker Road\, Oldcastle\, Ontario\, N0R1L0\, Canada
CATEGORIES:Regular Events
END:VEVENT
BEGIN:VEVENT
DTSTART;TZID=America/Detroit:20270124T093000
DTEND;TZID=America/Detroit:20270124T110000
DTSTAMP:20260425T115956
CREATED:20221006T200222Z
LAST-MODIFIED:20221006T200222Z
UID:14867-1800783000-1800788400@ebcwindsor.com
SUMMARY:Morning Worship Service
DESCRIPTION:We enjoy the Lord’s Table (Communion) together on every first Sunday of the month. Junior Church ministry is offered to children aged 3 through 7. Nursery ministry is available for children aged 0 through 2. See “How We Worship” for more details regarding what our worship services look like.
URL:https://ebcwindsor.com/event/morning-worship-service/2027-01-24/
LOCATION:Emmanuel Baptist Church\, 5445 Walker Road\, Oldcastle\, Ontario\, N0R1L0\, Canada
CATEGORIES:Regular Events
END:VEVENT
BEGIN:VEVENT
DTSTART;TZID=America/Detroit:20270124T110000
DTEND;TZID=America/Detroit:20270124T114500
DTSTAMP:20260425T115956
CREATED:20240302T010326Z
LAST-MODIFIED:20240302T010326Z
UID:14868-1800788400-1800791100@ebcwindsor.com
SUMMARY:Sunday School for All Ages
DESCRIPTION:We offer Sunday School ministry for all ages.
URL:https://ebcwindsor.com/event/sunday-school-for-all-ages-3/2027-01-24/
LOCATION:Emmanuel Baptist Church\, 5445 Walker Road\, Oldcastle\, Ontario\, N0R1L0\, Canada
CATEGORIES:Regular Events
END:VEVENT
BEGIN:VEVENT
DTSTART;TZID=America/Detroit:20270124T180000
DTEND;TZID=America/Detroit:20270124T193000
DTSTAMP:20260425T115956
CREATED:20221116T030155Z
LAST-MODIFIED:20221116T030155Z
UID:14869-1800813600-1800819000@ebcwindsor.com
SUMMARY:Evening Worship Service
DESCRIPTION:Evening Worship Service
URL:https://ebcwindsor.com/event/evening-worship-service-3/2027-01-24/
LOCATION:Emmanuel Baptist Church\, 5445 Walker Road\, Oldcastle\, Ontario\, N0R1L0\, Canada
CATEGORIES:Regular Events
END:VEVENT
BEGIN:VEVENT
DTSTART;TZID=America/Detroit:20270131T093000
DTEND;TZID=America/Detroit:20270131T110000
DTSTAMP:20260425T115956
CREATED:20221006T200222Z
LAST-MODIFIED:20221006T200222Z
UID:14886-1801387800-1801393200@ebcwindsor.com
SUMMARY:Morning Worship Service
DESCRIPTION:We enjoy the Lord’s Table (Communion) together on every first Sunday of the month. Junior Church ministry is offered to children aged 3 through 7. Nursery ministry is available for children aged 0 through 2. See “How We Worship” for more details regarding what our worship services look like.
URL:https://ebcwindsor.com/event/morning-worship-service/2027-01-31/
LOCATION:Emmanuel Baptist Church\, 5445 Walker Road\, Oldcastle\, Ontario\, N0R1L0\, Canada
CATEGORIES:Regular Events
END:VEVENT
BEGIN:VEVENT
DTSTART;TZID=America/Detroit:20270131T110000
DTEND;TZID=America/Detroit:20270131T120000
DTSTAMP:20260425T115956
CREATED:20240302T010621Z
LAST-MODIFIED:20240302T010621Z
UID:14885-1801393200-1801396800@ebcwindsor.com
SUMMARY:Monthly Prayer Meeting
DESCRIPTION:Our monthly prayer meeting gives a regular opportunity for men to pray with men\, and women to pray with women\, to bring our individual and corporate concerns before the Lord. (Our nursery and children’s Sunday School ministries continue during this scheduled time for prayer.)
URL:https://ebcwindsor.com/event/monthly-prayer-meeting-2/2027-01-31/
LOCATION:Emmanuel Baptist Church\, 5445 Walker Road\, Oldcastle\, Ontario\, N0R1L0\, Canada
CATEGORIES:Regular Events
END:VEVENT
BEGIN:VEVENT
DTSTART;TZID=America/Detroit:20270131T180000
DTEND;TZID=America/Detroit:20270131T193000
DTSTAMP:20260425T115956
CREATED:20221116T030155Z
LAST-MODIFIED:20221116T030155Z
UID:14887-1801418400-1801423800@ebcwindsor.com
SUMMARY:Evening Worship Service
DESCRIPTION:Evening Worship Service
URL:https://ebcwindsor.com/event/evening-worship-service-3/2027-01-31/
LOCATION:Emmanuel Baptist Church\, 5445 Walker Road\, Oldcastle\, Ontario\, N0R1L0\, Canada
CATEGORIES:Regular Events
END:VEVENT
END:VCALENDAR